BEGIN:VCALENDAR
VERSION:2.0
PRODID:-//I-Corps Hub: Desert and Pacific Region - ECPv6.15.20//NONSGML v1.0//EN
CALSCALE:GREGORIAN
METHOD:PUBLISH
X-ORIGINAL-URL:https://desertpacificicorps.org
X-WR-CALDESC:Events for I-Corps Hub: Desert and Pacific Region
REFRESH-INTERVAL;VALUE=DURATION:PT1H
X-Robots-Tag:noindex
X-PUBLISHED-TTL:PT1H
BEGIN:VTIMEZONE
TZID:America/Phoenix
BEGIN:STANDARD
TZOFFSETFROM:-0700
TZOFFSETTO:-0700
TZNAME:MST
DTSTART:20250101T000000
END:STANDARD
END:VTIMEZONE
BEGIN:VEVENT
DTSTART;VALUE=DATE:20260330
DTEND;VALUE=DATE:20260424
DTSTAMP:20260423T071702
CREATED:20260130T190921Z
LAST-MODIFIED:20260130T190921Z
UID:7976-1774828800-1776988799@desertpacificicorps.org
SUMMARY:I-Corps Aspire: Sustainability hosted by University of California\, San Diego (Apr 2026)
DESCRIPTION:Learn the fundamentals of customer discovery and assess problem–solution fit in a sustainability-focused Aspire course hosted by the University of California\, San Diego\, delivered virtually via Zoom. \nKickoff: Monday\, Mar 30 – 5 to 6 p.m. PT \nSessions 1-4: Thursdays\, Apr 2\, 9\, 16\, 23– 5 to 8 p.m. PT \nAll sessions via Zoom \nApplication Deadline: March 9\, 2026 \nContact: jtiglao@ucsd.edu \nApply Here
URL:https://desertpacificicorps.org/event/i-corps-aspire-sustainability-hosted-by-university-of-california-san-diego-apr-2026/
END:VEVENT
BEGIN:VEVENT
DTSTART;VALUE=DATE:20260410
DTEND;VALUE=DATE:20260502
DTSTAMP:20260423T071702
CREATED:20251216T232449Z
LAST-MODIFIED:20251216T232449Z
UID:7764-1775779200-1777679999@desertpacificicorps.org
SUMMARY:I-Corps Aspire #9 (Apr-May 2026)
DESCRIPTION:Learn the fundamentals of customer discovery and assess problem-solution fit over 4 sessions\, 3 hours each\, conducted via Zoom.\n\n\nSessions 1-4: Fridays\, Apr 10\, 17\, 24\, May 1  \n12 to 3 p.m. MST \nAll sessions via Zoom \nApplication Deadline: March 20\, 2026 \nContact: taylor.b.silverstein@asu.edu \nApply Here
URL:https://desertpacificicorps.org/event/i-corps-aspire-9-apr-may-2026/
END:VEVENT
BEGIN:VEVENT
DTSTART;VALUE=DATE:20260422
DTEND;VALUE=DATE:20260514
DTSTAMP:20260423T071702
CREATED:20251216T232730Z
LAST-MODIFIED:20251216T232730Z
UID:7766-1776816000-1778716799@desertpacificicorps.org
SUMMARY:I-Corps Aspire #10 (Apr-May 2026)
DESCRIPTION:Learn the fundamentals of customer discovery and assess problem-solution fit over 4 sessions\, 3 hours each\, conducted via Zoom.\n\n\nSessions 1-4: Wednesdays\, Apr 22\, 29\, May 6\, 13 \n4 to 7 p.m. MST \nAll sessions via Zoom \nApplication Deadline: April 1\, 2026 \nContact: taylor.b.silverstein@asu.edu \nApply Here
URL:https://desertpacificicorps.org/event/i-corps-aspire-10-apr-may-2026/
END:VEVENT
BEGIN:VEVENT
DTSTART;VALUE=DATE:20260428
DTEND;VALUE=DATE:20260429
DTSTAMP:20260423T071702
CREATED:20260408T164454Z
LAST-MODIFIED:20260408T164508Z
UID:8178-1777334400-1777420799@desertpacificicorps.org
SUMMARY:Info Session: NSF I-Corps Hub: Desert and Pacific Region
DESCRIPTION:Interested in participating in an NSF I-Corps course? Join one of our upcoming info sessions to learn how the NSF I-Corps program helps researchers explore the real-world impact of their work\, what participants gain from the experience\, and how to get involved through courses offered by the NSF I-Corps Hub: Desert and Pacific Region. \nRegister here in advance or join at the scheduled time using the Zoom link. \nEvent detailsDate: Tuesday\, April 28\, 2026Time: 12:00 to 12:30 p.m. MSTFormat: Virtual via Zoom \nJoin the info session (Zoom link): https://asu.zoom.us/j/87499930165 \nDiscover the real impact of NSF I-Corps. Watch the video below to hear from a past participant about the benefits and opportunities the program offers.
URL:https://desertpacificicorps.org/event/8178/
END:VEVENT
BEGIN:VEVENT
DTSTART;VALUE=DATE:20260428
DTEND;VALUE=DATE:20260520
DTSTAMP:20260423T071702
CREATED:20251216T232906Z
LAST-MODIFIED:20251216T232906Z
UID:7768-1777334400-1779235199@desertpacificicorps.org
SUMMARY:I-Corps Aspire #11 (Apr-May 2026)
DESCRIPTION:Learn the fundamentals of customer discovery and assess problem-solution fit over 4 sessions\, 3 hours each\, conducted via Zoom.\n\n\nSessions 1-4: Tuesdays\, Apr 28\, May 5\, 12\, 19  \n1 to 4 p.m. MST \nAll sessions via Zoom \nApplication Deadline: April 7\, 2026 \nContact: taylor.b.silverstein@asu.edu \nApply Here
URL:https://desertpacificicorps.org/event/i-corps-aspire-11-apr-may-2026/
END:VEVENT
BEGIN:VEVENT
DTSTART;VALUE=DATE:20260505
DTEND;VALUE=DATE:20260506
DTSTAMP:20260423T071702
CREATED:20260408T164637Z
LAST-MODIFIED:20260408T164637Z
UID:8181-1777939200-1778025599@desertpacificicorps.org
SUMMARY:Info Session: NSF I-Corps Hub: Desert and Pacific Region
DESCRIPTION:Interested in participating in an NSF I-Corps course? Join one of our upcoming info sessions to learn how the NSF I-Corps program helps researchers explore the real-world impact of their work\, what participants gain from the experience\, and how to get involved through courses offered by the NSF I-Corps Hub: Desert and Pacific Region. \nRegister here in advance or join at the scheduled time using the Zoom link. \nEvent detailsDate: Tuesday\, May 5\, 2026Time: 12:00 to 12:30 p.m. MSTFormat: Virtual via Zoom \nJoin the info session (Zoom link): https://asu.zoom.us/j/87499930165 \nDiscover the real impact of NSF I-Corps. Watch the video below to hear from a past participant about the benefits and opportunities the program offers.
URL:https://desertpacificicorps.org/event/info-session-nsf-i-corps-hub-desert-and-pacific-region-12/
END:VEVENT
BEGIN:VEVENT
DTSTART;VALUE=DATE:20260507
DTEND;VALUE=DATE:20260529
DTSTAMP:20260423T071702
CREATED:20251216T233051Z
LAST-MODIFIED:20260122T161633Z
UID:7770-1778112000-1780012799@desertpacificicorps.org
SUMMARY:I-Corps Aspire #12 (May 2026)
DESCRIPTION:Learn the fundamentals of customer discovery and assess problem-solution fit over 4 sessions\, 3 hours each\, conducted via Zoom.\n\n\nSessions 1-4: Thursdays\, May 7\, 14\, 21\, 28  \n2 to 5 p.m. MST \nAll sessions via Zoom \nApplication Deadline: April 16\, 2026 \nContact: taylor.b.silverstein@asu.edu \nApply Here
URL:https://desertpacificicorps.org/event/i-corps-aspire-12-may-2026/
END:VEVENT
BEGIN:VEVENT
DTSTART;VALUE=DATE:20260512
DTEND;VALUE=DATE:20260513
DTSTAMP:20260423T071702
CREATED:20260408T164803Z
LAST-MODIFIED:20260408T164803Z
UID:8183-1778544000-1778630399@desertpacificicorps.org
SUMMARY:Info Session: NSF I-Corps Hub: Desert and Pacific Region
DESCRIPTION:Interested in participating in an NSF I-Corps course? Join one of our upcoming info sessions to learn how the NSF I-Corps program helps researchers explore the real-world impact of their work\, what participants gain from the experience\, and how to get involved through courses offered by the NSF I-Corps Hub: Desert and Pacific Region. \nRegister here in advance or join at the scheduled time using the Zoom link. \nEvent detailsDate: Tuesday\, May 12\, 2026Time: 12:00 to 12:30 p.m. MSTFormat: Virtual via Zoom \nJoin the info session (Zoom link): https://asu.zoom.us/j/87499930165 \nDiscover the real impact of NSF I-Corps. Watch the video below to hear from a past participant about the benefits and opportunities the program offers.
URL:https://desertpacificicorps.org/event/info-session-nsf-i-corps-hub-desert-and-pacific-region-13/
END:VEVENT
BEGIN:VEVENT
DTSTART;VALUE=DATE:20260519
DTEND;VALUE=DATE:20260520
DTSTAMP:20260423T071702
CREATED:20260408T164921Z
LAST-MODIFIED:20260408T164921Z
UID:8185-1779148800-1779235199@desertpacificicorps.org
SUMMARY:Info Session: NSF I-Corps Hub: Desert and Pacific Region
DESCRIPTION:Interested in participating in an NSF I-Corps course? Join one of our upcoming info sessions to learn how the NSF I-Corps program helps researchers explore the real-world impact of their work\, what participants gain from the experience\, and how to get involved through courses offered by the NSF I-Corps Hub: Desert and Pacific Region. \nRegister here in advance or join at the scheduled time using the Zoom link. \nEvent detailsDate: Tuesday\, May 19\, 2026Time: 12:00 to 12:30 p.m. MSTFormat: Virtual via Zoom \nJoin the info session (Zoom link): https://asu.zoom.us/j/87499930165 \nDiscover the real impact of NSF I-Corps. Watch the video below to hear from a past participant about the benefits and opportunities the program offers.
URL:https://desertpacificicorps.org/event/info-session-nsf-i-corps-hub-desert-and-pacific-region-14/
END:VEVENT
BEGIN:VEVENT
DTSTART;VALUE=DATE:20260522
DTEND;VALUE=DATE:20260613
DTSTAMP:20260423T071702
CREATED:20251216T233258Z
LAST-MODIFIED:20251216T233258Z
UID:7772-1779408000-1781308799@desertpacificicorps.org
SUMMARY:I-Corps Aspire #13 (May-Jun 2026)
DESCRIPTION:Learn the fundamentals of customer discovery and assess problem-solution fit over 4 sessions\, 3 hours each\, conducted via Zoom.\n\n\n\n\nSessions 1-4: Fridays\, May 22\, 29\, Jun 5\, 12  \n12 to 3 p.m. MST \nAll sessions via Zoom \nApplication Deadline: May 1\, 2026 \nContact: taylor.b.silverstein@asu.edu \nApply Here
URL:https://desertpacificicorps.org/event/i-corps-aspire-13-may-jun-2026/
END:VEVENT
BEGIN:VEVENT
DTSTART;VALUE=DATE:20260526
DTEND;VALUE=DATE:20260527
DTSTAMP:20260423T071702
CREATED:20260408T165033Z
LAST-MODIFIED:20260408T165033Z
UID:8187-1779753600-1779839999@desertpacificicorps.org
SUMMARY:Info Session: NSF I-Corps Hub: Desert and Pacific Region
DESCRIPTION:Interested in participating in an NSF I-Corps course? Join one of our upcoming info sessions to learn how the NSF I-Corps program helps researchers explore the real-world impact of their work\, what participants gain from the experience\, and how to get involved through courses offered by the NSF I-Corps Hub: Desert and Pacific Region. \nRegister here in advance or join at the scheduled time using the Zoom link. \nEvent detailsDate: Tuesday\, May 26\, 2026Time: 12:00 to 12:30 p.m. MSTFormat: Virtual via Zoom \nJoin the info session (Zoom link): https://asu.zoom.us/j/87499930165 \nDiscover the real impact of NSF I-Corps. Watch the video below to hear from a past participant about the benefits and opportunities the program offers.
URL:https://desertpacificicorps.org/event/info-session-nsf-i-corps-hub-desert-and-pacific-region-15/
END:VEVENT
BEGIN:VEVENT
DTSTART;VALUE=DATE:20260603
DTEND;VALUE=DATE:20260625
DTSTAMP:20260423T071702
CREATED:20251216T233511Z
LAST-MODIFIED:20251216T233511Z
UID:7774-1780444800-1782345599@desertpacificicorps.org
SUMMARY:I-Corps Aspire #14 (Jun 2026)
DESCRIPTION:Learn the fundamentals of customer discovery and assess problem-solution fit over 4 sessions\, 3 hours each\, conducted via Zoom.\n\n\nSessions 1-4: Wednesdays\, Jun 3\, 10\, 17\, 24  \n4 to 7 p.m. MST \nAll sessions via Zoom \nApplication Deadline: May 13\, 2026 \nContact: taylor.b.silverstein@asu.edu \nApply Here
URL:https://desertpacificicorps.org/event/i-corps-aspire-14-jun-2026/
END:VEVENT
BEGIN:VEVENT
DTSTART;VALUE=DATE:20260609
DTEND;VALUE=DATE:20260701
DTSTAMP:20260423T071702
CREATED:20251216T233657Z
LAST-MODIFIED:20251216T233657Z
UID:7776-1780963200-1782863999@desertpacificicorps.org
SUMMARY:I-Corps Aspire #15 (Jun 2026)
DESCRIPTION:Learn the fundamentals of customer discovery and assess problem-solution fit over 4 sessions\, 3 hours each\, conducted via Zoom.\n\n\nSessions 1-4: Tuesdays\, Jun 9\, 16\, 23\, 30  \n3 to 6 p.m. MST  \nAll sessions via Zoom \nApplication Deadline: May 19\, 2026 \nContact: taylor.b.silverstein@asu.edu \nApply Here
URL:https://desertpacificicorps.org/event/i-corps-aspire-15-jun-2026/
END:VEVENT
BEGIN:VEVENT
DTSTART;VALUE=DATE:20260616
DTEND;VALUE=DATE:20260716
DTSTAMP:20260423T071702
CREATED:20251217T224120Z
LAST-MODIFIED:20251217T224120Z
UID:7798-1781568000-1784159999@desertpacificicorps.org
SUMMARY:I-Corps Regional+: BIO International Convention (Jun-Jul 2026)
DESCRIPTION:An intensive I-Corps course that deepens customer discovery skills and accelerates research teams toward business-model fit across a mix of virtual sessions and in-person participation at the BIO International Convention in San Diego\, where teams will gather real-world insights through extensive customer interviews.\n\n\nVirtual Kickoff: Tue & Wed\, Jun 16\, 17 – 1 to 5 p.m. MST \nIn-person in San Diego: Mon-Thu Jun 22-25 \nVirtual Weeklies: Wednesdays\, Jul 1\, 8\, 15 – 1 to 4 p.m. MST  \nApplication Deadline: May 19\, 2026 \nContact: taylor.b.silverstein@asu.edu \nApply Here
URL:https://desertpacificicorps.org/event/i-corps-regional-bio-international-convention-jun-jul-2026/
END:VEVENT
BEGIN:VEVENT
DTSTART;VALUE=DATE:20260618
DTEND;VALUE=DATE:20260710
DTSTAMP:20260423T071702
CREATED:20260406T171230Z
LAST-MODIFIED:20260406T171230Z
UID:8138-1781740800-1783641599@desertpacificicorps.org
SUMMARY:I-Corps Aspire #17 (Jun-Jul 2026)
DESCRIPTION:Learn the fundamentals of customer discovery and assess problem-solution fit over 4 sessions\, 3 hours each\, conducted via Zoom.\n\n\nSessions 1-4: Thursdays\, Jun 18\, 25\, Jul 2\, 9  \n11 a.m. to 2 p.m. MST (Phoenix)  \nAll sessions via Zoom \nApplication Deadline: May 28\, 2026 \nContact: taylor.b.silverstein@asu.edu \nApply Here
URL:https://desertpacificicorps.org/event/i-corps-aspire-17-jun-jul-2026/
END:VEVENT
BEGIN:VEVENT
DTSTART;VALUE=DATE:20260710
DTEND;VALUE=DATE:20260801
DTSTAMP:20260423T071702
CREATED:20260406T171709Z
LAST-MODIFIED:20260406T171709Z
UID:8143-1783641600-1785542399@desertpacificicorps.org
SUMMARY:I-Corps Aspire #18 (Jul 2026)
DESCRIPTION:Learn the fundamentals of customer discovery and assess problem-solution fit over 4 sessions\, 3 hours each\, conducted via Zoom.\n\n\nSessions 1-4: Fridays\, Jul 10\, 17\, 24\, 31 \n12 to 3 p.m. MST (Phoenix) \nAll sessions via Zoom \nApplication Deadline: June 19\, 2026 \nContact: taylor.b.silverstein@asu.edu \nApply Here
URL:https://desertpacificicorps.org/event/i-corps-aspire-18-jul-2026/
END:VEVENT
BEGIN:VEVENT
DTSTART;VALUE=DATE:20260715
DTEND;VALUE=DATE:20260806
DTSTAMP:20260423T071702
CREATED:20260407T180048Z
LAST-MODIFIED:20260407T180048Z
UID:8149-1784073600-1785974399@desertpacificicorps.org
SUMMARY:I-Corps Aspire #19 (Jul-Aug 2026)
DESCRIPTION:Learn the fundamentals of customer discovery and assess problem-solution fit over 4 sessions\, 3 hours each\, conducted via Zoom.\n\n\nSessions 1-4: Wednesdays\, Jul 15\, 22\, 29\, Aug 5 \n4 to 7 p.m. MST (Phoenix)  \nAll sessions via Zoom \nApplication Deadline: June 24\, 2026 \nContact: taylor.b.silverstein@asu.edu \nApply Here
URL:https://desertpacificicorps.org/event/i-corps-aspire-19-jul-aug-2026/
END:VEVENT
BEGIN:VEVENT
DTSTART;VALUE=DATE:20260721
DTEND;VALUE=DATE:20260812
DTSTAMP:20260423T071702
CREATED:20260407T180847Z
LAST-MODIFIED:20260407T180847Z
UID:8151-1784592000-1786492799@desertpacificicorps.org
SUMMARY:I-Corps Aspire #20 (Jul-Aug 2026)
DESCRIPTION:Learn the fundamentals of customer discovery and assess problem-solution fit over 4 sessions\, 3 hours each\, conducted via Zoom.\n\n\nSessions 1-4: Tuesdays\, Jul 21\, 28\, Aug 4\, 11  \n1 to 4 p.m. MST (Phoenix)  \nAll sessions via Zoom \nApplication Deadline: June 30\, 2026 \nContact: taylor.b.silverstein@asu.edu \nApply Here
URL:https://desertpacificicorps.org/event/i-corps-aspire-20-jul-aug-2026/
END:VEVENT
BEGIN:VEVENT
DTSTART;VALUE=DATE:20260730
DTEND;VALUE=DATE:20260821
DTSTAMP:20260423T071702
CREATED:20260407T181030Z
LAST-MODIFIED:20260407T181150Z
UID:8153-1785369600-1787270399@desertpacificicorps.org
SUMMARY:I-Corps Aspire #21 (Jul-Aug 2026)
DESCRIPTION:Learn the fundamentals of customer discovery and assess problem-solution fit over 4 sessions\, 3 hours each\, conducted via Zoom.\n\n\nSessions 1-4: Thursdays\, Jul 30\, Aug 6\, 13\, 20  \n11 a.m. to 2 p.m. MST (Phoenix)  \nAll sessions via Zoom \nApplication Deadline: July 9\, 2026 \nContact: taylor.b.silverstein@asu.edu \nApply Here
URL:https://desertpacificicorps.org/event/i-corps-aspire-21-jul-aug-2026/
END:VEVENT
BEGIN:VEVENT
DTSTART;VALUE=DATE:20260818
DTEND;VALUE=DATE:20260910
DTSTAMP:20260423T071702
CREATED:20260311T235143Z
LAST-MODIFIED:20260311T235143Z
UID:8118-1787011200-1788998399@desertpacificicorps.org
SUMMARY:I-Corps Regional+: SPIE Optics + Photonics (Aug-Sep 2026)
DESCRIPTION:An intensive I-Corps course that deepens customer discovery skills and accelerates research teams toward business-model fit across a mix of virtual sessions and in-person participation at SPIE Optics + Photonics in San Diego\, where teams will gather real-world insights through extensive customer interviews.\n\n\nVirtual Kickoff: Tue & Wed\, Aug 18\, 19 – 1 to 5 p.m. MST \nIn-person in San Diego: Sun-Thu\, Aug 23–27 \nVirtual Weekly Sessions: Wednesdays\, Sep 2\, 9\, 16 – 1 to 4 p.m. MST  \nApplication Deadline: July 21\, 2026 \nContact: taylor.b.silverstein@asu.edu \nApply Here
URL:https://desertpacificicorps.org/event/i-corps-regional-spie-optics-photonics-aug-sep-2026-2/
END:VEVENT
BEGIN:VEVENT
DTSTART;VALUE=DATE:20260821
DTEND;VALUE=DATE:20260912
DTSTAMP:20260423T071702
CREATED:20260407T181341Z
LAST-MODIFIED:20260407T181341Z
UID:8155-1787270400-1789171199@desertpacificicorps.org
SUMMARY:I-Corps Aspire #23 (Aug-Sep 2026)
DESCRIPTION:Learn the fundamentals of customer discovery and assess problem-solution fit over 4 sessions\, 3 hours each\, conducted via Zoom.\n\n\nSessions 1-4: Fridays\, Aug 21\, 28\, Sep 4\, 11  \n12 to 3 p.m. MST (Phoenix) \nAll sessions via Zoom \nApplication Deadline: July 31\, 2026 \nContact: taylor.b.silverstein@asu.edu \nApply Here
URL:https://desertpacificicorps.org/event/i-corps-aspire-23-aug-sep-2026/
END:VEVENT
BEGIN:VEVENT
DTSTART;VALUE=DATE:20260826
DTEND;VALUE=DATE:20260917
DTSTAMP:20260423T071702
CREATED:20260407T181551Z
LAST-MODIFIED:20260407T181551Z
UID:8157-1787702400-1789603199@desertpacificicorps.org
SUMMARY:I-Corps Aspire #24 (Aug-Sep 2026)
DESCRIPTION:Learn the fundamentals of customer discovery and assess problem-solution fit over 4 sessions\, 3 hours each\, conducted via Zoom.\n\n\nSessions 1-4: Wednesdays\, Aug 26\, Sep 2\, 9\, 16 \n4 to 7 p.m. MST (Phoenix)  \nAll sessions via Zoom \nApplication Deadline: August 5\, 2026 \nContact: taylor.b.silverstein@asu.edu \nApply Here
URL:https://desertpacificicorps.org/event/i-corps-aspire-24-aug-sep-2026/
END:VEVENT
BEGIN:VEVENT
DTSTART;VALUE=DATE:20260901
DTEND;VALUE=DATE:20260923
DTSTAMP:20260423T071702
CREATED:20260407T182419Z
LAST-MODIFIED:20260407T182419Z
UID:8159-1788220800-1790121599@desertpacificicorps.org
SUMMARY:I-Corps Aspire #25 (Sep 2026)
DESCRIPTION:Learn the fundamentals of customer discovery and assess problem-solution fit over 4 sessions\, 3 hours each\, conducted via Zoom.\n\n\nSessions 1-4: Tuesdays\, Sep 1\, 8\, 15\, 22  \n3 to 6 p.m. MST (Phoenix)  \nAll sessions via Zoom \nApplication Deadline: August 11\, 2026 \nContact: taylor.b.silverstein@asu.edu \nApply Here
URL:https://desertpacificicorps.org/event/i-corps-aspire-25-sep-2026/
END:VEVENT
BEGIN:VEVENT
DTSTART;VALUE=DATE:20260910
DTEND;VALUE=DATE:20261002
DTSTAMP:20260423T071702
CREATED:20260407T182552Z
LAST-MODIFIED:20260407T182552Z
UID:8161-1788998400-1790899199@desertpacificicorps.org
SUMMARY:I-Corps Aspire #26 (Sep-Oct 2026)
DESCRIPTION:Learn the fundamentals of customer discovery and assess problem-solution fit over 4 sessions\, 3 hours each\, conducted via Zoom.\n\n\nSessions 1-4: Thursdays\, Sep 10\, 17\, 24\, Oct 1  \n11 a.m. to 2 p.m. MST (Phoenix)  \nAll sessions via Zoom \nApplication Deadline: August 20\, 2026 \nContact: taylor.b.silverstein@asu.edu \nApply Here
URL:https://desertpacificicorps.org/event/i-corps-aspire-26-sep-oct-2026/
END:VEVENT
BEGIN:VEVENT
DTSTART;VALUE=DATE:20261002
DTEND;VALUE=DATE:20261024
DTSTAMP:20260423T071702
CREATED:20260407T182741Z
LAST-MODIFIED:20260407T182741Z
UID:8163-1790899200-1792799999@desertpacificicorps.org
SUMMARY:I-Corps Aspire #27 (Oct 2026)
DESCRIPTION:Learn the fundamentals of customer discovery and assess problem-solution fit over 4 sessions\, 3 hours each\, conducted via Zoom.\n\n\nSessions 1-4: Fridays\, Oct 2\, 9\, 16\, 23  \n12 to 3 p.m. MST (Phoenix) \nAll sessions via Zoom \nApplication Deadline: September 11\, 2026 \nContact: taylor.b.silverstein@asu.edu \nApply Here
URL:https://desertpacificicorps.org/event/i-corps-aspire-27-oct-2026/
END:VEVENT
BEGIN:VEVENT
DTSTART;VALUE=DATE:20261007
DTEND;VALUE=DATE:20261029
DTSTAMP:20260423T071702
CREATED:20260407T183023Z
LAST-MODIFIED:20260407T183023Z
UID:8165-1791331200-1793231999@desertpacificicorps.org
SUMMARY:I-Corps Aspire #28 (Oct 2026)
DESCRIPTION:Learn the fundamentals of customer discovery and assess problem-solution fit over 4 sessions\, 3 hours each\, conducted via Zoom.\n\n\nSessions 1-4: Wednesdays\, Oct 7\, 14\, 21\, 28 \n4 to 7 p.m. MST (Phoenix)  \nAll sessions via Zoom \nApplication Deadline: September 16\, 2026 \nContact: taylor.b.silverstein@asu.edu \nApply Here
URL:https://desertpacificicorps.org/event/i-corps-aspire-28-oct-2026/
END:VEVENT
BEGIN:VEVENT
DTSTART;VALUE=DATE:20261013
DTEND;VALUE=DATE:20261104
DTSTAMP:20260423T071702
CREATED:20260407T183224Z
LAST-MODIFIED:20260407T183224Z
UID:8167-1791849600-1793750399@desertpacificicorps.org
SUMMARY:I-Corps Aspire #29 (Oct-Nov 2026)
DESCRIPTION:Learn the fundamentals of customer discovery and assess problem-solution fit over 4 sessions\, 3 hours each\, conducted via Zoom.\n\n\nSessions 1-4: Tuesdays\, Oct 13\, 20\, 27\, Nov 3 \n1 to 4 p.m. MST (Phoenix)  \nAll sessions via Zoom \nApplication Deadline: September 22\, 2026 \nContact: taylor.b.silverstein@asu.edu \nApply Here
URL:https://desertpacificicorps.org/event/i-corps-aspire-29-oct-nov-2026/
END:VEVENT
BEGIN:VEVENT
DTSTART;VALUE=DATE:20261022
DTEND;VALUE=DATE:20261113
DTSTAMP:20260423T071702
CREATED:20260407T183502Z
LAST-MODIFIED:20260407T183502Z
UID:8169-1792627200-1794527999@desertpacificicorps.org
SUMMARY:I-Corps Aspire #30 (Oct-Nov 2026)
DESCRIPTION:Learn the fundamentals of customer discovery and assess problem-solution fit over 4 sessions\, 3 hours each\, conducted via Zoom.\n\n\nSessions 1-4: Thursdays\, Oct 22\, 29\, Nov 5\, 12  \n2 to 5 p.m. MST (Phoenix)  \nAll sessions via Zoom \nApplication Deadline: October 1\, 2026 \nContact: taylor.b.silverstein@asu.edu \nApply Here
URL:https://desertpacificicorps.org/event/i-corps-aspire-30-oct-nov-2026/
END:VEVENT
BEGIN:VEVENT
DTSTART;VALUE=DATE:20261030
DTEND;VALUE=DATE:20261121
DTSTAMP:20260423T071702
CREATED:20260407T183620Z
LAST-MODIFIED:20260407T183620Z
UID:8171-1793318400-1795219199@desertpacificicorps.org
SUMMARY:I-Corps Aspire #31 (Oct-Nov 2026)
DESCRIPTION:Learn the fundamentals of customer discovery and assess problem-solution fit over 4 sessions\, 3 hours each\, conducted via Zoom.\n\n\nSessions 1-4: Fridays\, Oct 30\, Nov 6\, 13\, 20 \n12 to 3 p.m. MST (Phoenix) \nAll sessions via Zoom \nApplication Deadline: October 9\, 2026 \nContact: taylor.b.silverstein@asu.edu \nApply Here
URL:https://desertpacificicorps.org/event/i-corps-aspire-31-oct-nov-2026/
END:VEVENT
END:VCALENDAR