BEGIN:VCALENDAR
VERSION:2.0
PRODID:-//I-Corps Hub: Desert and Pacific Region - ECPv6.15.20//NONSGML v1.0//EN
CALSCALE:GREGORIAN
METHOD:PUBLISH
X-ORIGINAL-URL:https://desertpacificicorps.org
X-WR-CALDESC:Events for I-Corps Hub: Desert and Pacific Region
REFRESH-INTERVAL;VALUE=DURATION:PT1H
X-Robots-Tag:noindex
X-PUBLISHED-TTL:PT1H
BEGIN:VTIMEZONE
TZID:America/Phoenix
BEGIN:STANDARD
TZOFFSETFROM:-0700
TZOFFSETTO:-0700
TZNAME:MST
DTSTART:20240101T000000
END:STANDARD
END:VTIMEZONE
BEGIN:VEVENT
DTSTART;VALUE=DATE:20260129
DTEND;VALUE=DATE:20260220
DTSTAMP:20260423T222525
CREATED:20251120T184520Z
LAST-MODIFIED:20251120T202410Z
UID:7546-1769644800-1771545599@desertpacificicorps.org
SUMMARY:I-Corps Aspire #2 (Jan-Feb 2026)
DESCRIPTION:Learn the fundamentals of customer discovery and assess problem-solution fit over 4 sessions\, 3 hours each\, conducted via Zoom.\n\n\nSessions 1-4: Thursdays\, Jan 29\, Feb 5\, 12\, 19 \n1 to 4 p.m. MST \nAll sessions via Zoom \nApplication Deadline: January 8\, 2026 \nContact: taylor.b.silverstein@asu.edu \nApply Here
URL:https://desertpacificicorps.org/event/c2-26-i-corps-aspire-jan-feb-2026/
END:VEVENT
BEGIN:VEVENT
DTSTART;VALUE=DATE:20260123
DTEND;VALUE=DATE:20260214
DTSTAMP:20260423T222525
CREATED:20251120T184101Z
LAST-MODIFIED:20251120T202523Z
UID:7544-1769126400-1771027199@desertpacificicorps.org
SUMMARY:I-Corps Aspire #1 (Jan-Feb 2026)
DESCRIPTION:Learn the fundamentals of customer discovery and assess problem-solution fit over 4 sessions\, 3 hours each\, conducted via Zoom.\n\n\nSessions 1-4: Fridays\, Jan 23\, 30\, Feb 6\, 13 \n12 to 3 p.m. MST \nAll sessions via Zoom \nApplication Deadline: January 2\, 2026 \nContact: taylor.b.silverstein@asu.edu \nApply Here
URL:https://desertpacificicorps.org/event/i-corps-aspire-jan-feb-2026/
END:VEVENT
BEGIN:VEVENT
DTSTART;TZID=America/Phoenix:20251210T123000
DTEND;TZID=America/Phoenix:20251210T130000
DTSTAMP:20260423T222525
CREATED:20250121T183919Z
LAST-MODIFIED:20250730T195009Z
UID:5834-1765369800-1765371600@desertpacificicorps.org
SUMMARY:I-Corps Info Session
DESCRIPTION:Interested in participating in the I-Corps course offered by the NSF I-Corps Hub: Desert and Pacific Region? Join us at one of the upcoming info sessions to learn more about the upcoming courses\, the benefits and advantages of participating as well as pathways and next steps beyond the regional training. \nDate: Wednesday\, December 10\, 2025\nTime: 12:30 to 1:00 p.m. MST (Phoenix)\nFormat: Virtual via Zoom\nRegister here: https://airtable.com/appWhZUqIwkj4x0bd/pagoLy3TEvIwZMbAx/form \nDiscover the real impact of I-Corps! Watch the video below to hear from a past participant about the invaluable benefits and opportunities the program offers.
URL:https://desertpacificicorps.org/event/i-corps-info-session-49/
END:VEVENT
BEGIN:VEVENT
DTSTART;TZID=America/Phoenix:20251125T140000
DTEND;TZID=America/Phoenix:20251125T143000
DTSTAMP:20260423T222525
CREATED:20250121T183711Z
LAST-MODIFIED:20250730T195128Z
UID:5832-1764079200-1764081000@desertpacificicorps.org
SUMMARY:I-Corps Info Session
DESCRIPTION:Interested in participating in the I-Corps course offered by the NSF I-Corps Hub: Desert and Pacific Region? Join us at one of the upcoming info sessions to learn more about the upcoming courses\, the benefits and advantages of participating as well as pathways and next steps beyond the regional training. \nDate: Tuesday\, November 25\, 2025\nTime: 2:00 to 2:30 p.m. MST (Phoenix)\nFormat: Virtual via Zoom\nRegister here: https://airtable.com/appWhZUqIwkj4x0bd/pagoLy3TEvIwZMbAx/form \nDiscover the real impact of I-Corps! Watch the video below to hear from a past participant about the invaluable benefits and opportunities the program offers.
URL:https://desertpacificicorps.org/event/i-corps-info-session-48/
END:VEVENT
BEGIN:VEVENT
DTSTART;VALUE=DATE:20251114
DTEND;VALUE=DATE:20251213
DTSTAMP:20260423T222525
CREATED:20250611T215317Z
LAST-MODIFIED:20250611T215507Z
UID:6852-1763078400-1765583999@desertpacificicorps.org
SUMMARY:I-Corps Aspire (Nov-Dec 2025)
DESCRIPTION:Learn the fundamentals of customer discovery and assess problem-solution fit over 4 sessions\, 3 hours each\, conducted via Zoom. \nSessions 1-4: Fridays\, Nov 14\, 21\, Dec 5\, 12 (Note: No session on Nov 28) \n12 to 3 p.m. MST (Phoenix) \nAll sessions via Zoom \nApplication Deadline: October 31\, 2025 \nContact: taylor.b.silverstein@asu.edu \nApply Here
URL:https://desertpacificicorps.org/event/i-corps-aspire-nov-dec-2025/
END:VEVENT
BEGIN:VEVENT
DTSTART;TZID=America/Phoenix:20251112T123000
DTEND;TZID=America/Phoenix:20251112T130000
DTSTAMP:20260423T222525
CREATED:20250121T183508Z
LAST-MODIFIED:20250730T195153Z
UID:5830-1762950600-1762952400@desertpacificicorps.org
SUMMARY:I-Corps Info Session
DESCRIPTION:Interested in participating in the I-Corps course offered by the NSF I-Corps Hub: Desert and Pacific Region? Join us at one of the upcoming info sessions to learn more about the upcoming courses\, the benefits and advantages of participating as well as pathways and next steps beyond the regional training. \nDate: Wednesday\, November 12\, 2025\nTime: 12:30 to 1:00 p.m. MST (Phoenix)\nFormat: Virtual via Zoom\nRegister here: https://airtable.com/appWhZUqIwkj4x0bd/pagoLy3TEvIwZMbAx/form \nDiscover the real impact of I-Corps! Watch the video below to hear from a past participant about the invaluable benefits and opportunities the program offers.
URL:https://desertpacificicorps.org/event/i-corps-info-session-47/
END:VEVENT
BEGIN:VEVENT
DTSTART;TZID=America/Phoenix:20251028T140000
DTEND;TZID=America/Phoenix:20251028T143000
DTSTAMP:20260423T222525
CREATED:20250121T183254Z
LAST-MODIFIED:20250730T195226Z
UID:5828-1761660000-1761661800@desertpacificicorps.org
SUMMARY:I-Corps Info Session
DESCRIPTION:Interested in participating in the I-Corps course offered by the NSF I-Corps Hub: Desert and Pacific Region? Join us at one of the upcoming info sessions to learn more about the upcoming courses\, the benefits and advantages of participating as well as pathways and next steps beyond the regional training. \nDate: Tuesday\, October 28\, 2025\nTime: 2:00 to 2:30 p.m. MST (Phoenix)\nFormat: Virtual via Zoom\nRegister here: https://airtable.com/appWhZUqIwkj4x0bd/pagoLy3TEvIwZMbAx/form \nDiscover the real impact of I-Corps! Watch the video below to hear from a past participant about the invaluable benefits and opportunities the program offers.
URL:https://desertpacificicorps.org/event/i-corps-info-session-46/
END:VEVENT
BEGIN:VEVENT
DTSTART;VALUE=DATE:20251022
DTEND;VALUE=DATE:20251113
DTSTAMP:20260423T222525
CREATED:20250611T214929Z
LAST-MODIFIED:20250611T214929Z
UID:6850-1761091200-1762991999@desertpacificicorps.org
SUMMARY:I-Corps Aspire (Oct-Nov 2025)
DESCRIPTION:Learn the fundamentals of customer discovery and assess problem-solution fit over 4 sessions\, 3 hours each\, conducted via Zoom. \nSessions 1-4: Wednesdays\, Oct 22\, 29\, Nov 5\, 12 \n4 to 7 p.m. MST (Phoenix) \nAll sessions via Zoom \nApplication Deadline: October 8\, 2025 \nContact: taylor.b.silverstein@asu.edu \nApply Here
URL:https://desertpacificicorps.org/event/i-corps-aspire-oct-nov-2025/
END:VEVENT
BEGIN:VEVENT
DTSTART;VALUE=DATE:20251020
DTEND;VALUE=DATE:20251111
DTSTAMP:20260423T222525
CREATED:20250129T170946Z
LAST-MODIFIED:20250129T170946Z
UID:5864-1760918400-1762819199@desertpacificicorps.org
SUMMARY:I-Corps Aspire hosted by University of Arizona (Oct-Nov 2025)
DESCRIPTION:Session 1-4: Oct 20\, 27\, Nov 3\, 10 from 1 to 4 p.m. MST (Tucson) \nAll Sessions via Zoom \nApplication Deadline: October 6\, 2025 \nContact: tylermccusker@arizona.edu \nApply Here
URL:https://desertpacificicorps.org/event/i-corps-aspire-hosted-by-university-of-arizona-oct-nov-2025/
END:VEVENT
BEGIN:VEVENT
DTSTART;VALUE=DATE:20251003
DTEND;VALUE=DATE:20251025
DTSTAMP:20260423T222525
CREATED:20250528T205911Z
LAST-MODIFIED:20250528T205911Z
UID:6757-1759449600-1761350399@desertpacificicorps.org
SUMMARY:I-Corps Aspire (Oct 2025)
DESCRIPTION:Learn the fundamentals of customer discovery and assess problem-solution fit over 4 sessions\, 3 hours each\, conducted via Zoom. \nSessions 1-4: Fridays\, Oct 3\, 10\, 17\, 24 \n12 to 3 p.m. MST (Phoenix) \nAll sessions via Zoom \nApplication Deadline: September 19\, 2025 \nContact: taylor.b.silverstein@asu.edu \nApply Here
URL:https://desertpacificicorps.org/event/i-corps-aspire-oct-2025/
END:VEVENT
BEGIN:VEVENT
DTSTART;VALUE=DATE:20250930
DTEND;VALUE=DATE:20251022
DTSTAMP:20260423T222525
CREATED:20250701T160759Z
LAST-MODIFIED:20250701T163836Z
UID:6875-1759190400-1761091199@desertpacificicorps.org
SUMMARY:I-Corps Immerse: SEMICON West (Sep-Oct 2025)
DESCRIPTION:I-Corps Immerse combines I-Corps training with an on-site immersive experience at SEMICON West in Phoenix\, Arizona. This opportunity covers registration and travel\, providing you with the tools to conduct customer discovery interviews\, gain industry insights\, and network with top microelectronics leaders. \nSessions 1\, 3\, and 4: Tuesdays\, Sep 30\, Oct 14\, and 21 from 4 to 7 p.m. MST (Phoenix) via Zoom \nSession 2 and SEMICON West: October 6-9\, 2025\, in person in Phoenix  \nContact: taylor.b.silverstein@asu.edu \nApply Here
URL:https://desertpacificicorps.org/event/i-corps-immerse-semicon-west-sep-oct-2025/
END:VEVENT
BEGIN:VEVENT
DTSTART;VALUE=DATE:20250929
DTEND;VALUE=DATE:20251030
DTSTAMP:20260423T222525
CREATED:20250404T205317Z
LAST-MODIFIED:20250407T195519Z
UID:6656-1759104000-1761782399@desertpacificicorps.org
SUMMARY:I-Corps Aspire: MedTech hosted by University of California\, San Diego (Sep-Oct 2025)
DESCRIPTION:Dive into the MedTech innovation space as you learn to test assumptions\, engage with real-world stakeholders\, and explore the commercial potential of your research. This I-Corps Aspire course guides you through the fundamentals of customer discovery with a 1-hour kick-off session and four 3-hour sessions\, all conducted via Zoom. \nKick-off: Monday\, Sep 29\n5 to 6 p.m. PT (San Diego) \nSessions 1-4:  Wednesdays\, Oct 1\, 15\, 22\, 29 – Note: No sessions on Oct 8\n5 to 8 p.m. PT (San Diego) \nAll sessions via Zoom\n \nApplication Deadline: September 17\, 2025 \nContact: rdeller@ucsd.edu \nApply Here
URL:https://desertpacificicorps.org/event/i-corps-aspire-medtech-hosted-by-university-of-california-san-diego-sep-oct-2025/
END:VEVENT
BEGIN:VEVENT
DTSTART;TZID=America/Phoenix:20250923T140000
DTEND;TZID=America/Phoenix:20250923T143000
DTSTAMP:20260423T222525
CREATED:20250121T182656Z
LAST-MODIFIED:20250730T195329Z
UID:5824-1758636000-1758637800@desertpacificicorps.org
SUMMARY:I-Corps Info Session
DESCRIPTION:Interested in participating in the I-Corps course offered by the NSF I-Corps Hub: Desert and Pacific Region? Join us at one of the upcoming info sessions to learn more about the upcoming courses\, the benefits and advantages of participating as well as pathways and next steps beyond the regional training. \nDate: Tuesday\, September 23\, 2025\nTime: 2:00 to 2:30 p.m. MST (Phoenix)\nFormat: Virtual via Zoom\nRegister here: https://airtable.com/appWhZUqIwkj4x0bd/pagoLy3TEvIwZMbAx/form \nDiscover the real impact of I-Corps! Watch the video below to hear from a past participant about the invaluable benefits and opportunities the program offers.
URL:https://desertpacificicorps.org/event/i-corps-info-session-44/
END:VEVENT
BEGIN:VEVENT
DTSTART;VALUE=DATE:20250919
DTEND;VALUE=DATE:20251011
DTSTAMP:20260423T222525
CREATED:20250519T185329Z
LAST-MODIFIED:20250519T185329Z
UID:6734-1758240000-1760140799@desertpacificicorps.org
SUMMARY:I-Corps Aspire hosted by Boise State University (Sep-Oct 2025)
DESCRIPTION:Join Boise State University for four live\, 3-hour Zoom sessions of interactive exercises and expert guidance to uncover real customer needs and validate your solution for market success. \nSessions 1-4: Fridays\, Sep 19\, 26\, Oct 3\, 10 \n1 to 4 p.m. MDT (Boise\, ID) \nAll sessions via Zoom \nApplication Deadline: September 5\, 2025 \nContact: brettadkins@boisestate.edu   \nApply Here
URL:https://desertpacificicorps.org/event/i-corps-aspire-hosted-by-boise-state-university-sep-oct-2025/
END:VEVENT
BEGIN:VEVENT
DTSTART;VALUE=DATE:20250911
DTEND;VALUE=DATE:20251003
DTSTAMP:20260423T222525
CREATED:20250117T215320Z
LAST-MODIFIED:20250603T165141Z
UID:5806-1757548800-1759449599@desertpacificicorps.org
SUMMARY:I-Corps Aspire hosted by Northern Arizona University (Sep-Oct 2025)
DESCRIPTION:Join NAU for a 4-week deep dive into a transformative\, evidence-based customer discovery process designed to help researchers and entrepreneurs gain valuable insights into problem-solution fit for their innovation or startup idea. To maximize engagement\, this course will be held in person on the NAU campus. \nThe course is presented by Nathan Friedman\, NSF I-Corps Regional Course Lead Instructor\, and Cristy Salanga\, NAU Patent Manager and NAU NSF I-Corps Program Director. \nSessions 1-4: Thursdays\, Sep 11\, 18\, 25\, Oct 2 from 5 to 8 p.m. MST (Flagstaff) in-person at NAU \nApplication Deadline: August 29\, 2025 \nFor any questions\, please get in touch with Cristy Salanga at Cristy.Salanga@nau.edu. \nApply Here \n 
URL:https://desertpacificicorps.org/event/i-corps-aspire-hosted-by-northern-arizona-university-sep-oct-2025/
END:VEVENT
BEGIN:VEVENT
DTSTART;TZID=America/Phoenix:20250910T123000
DTEND;TZID=America/Phoenix:20250910T130000
DTSTAMP:20260423T222525
CREATED:20250121T182508Z
LAST-MODIFIED:20250730T195410Z
UID:5822-1757507400-1757509200@desertpacificicorps.org
SUMMARY:I-Corps Info Session
DESCRIPTION:Interested in participating in the I-Corps course offered by the NSF I-Corps Hub: Desert and Pacific Region? Join us at one of the upcoming info sessions to learn more about the upcoming courses\, the benefits and advantages of participating as well as pathways and next steps beyond the regional training. \nDate: Wednesday\, September 10\, 2025\nTime: 12:30 to 1:00 p.m. MST (Phoenix)\nFormat: Virtual via Zoom\nRegister here: https://airtable.com/appWhZUqIwkj4x0bd/pagoLy3TEvIwZMbAx/form \nDiscover the real impact of I-Corps! Watch the video below to hear from a past participant about the invaluable benefits and opportunities the program offers.
URL:https://desertpacificicorps.org/event/i-corps-info-session-43/
END:VEVENT
BEGIN:VEVENT
DTSTART;VALUE=DATE:20250903
DTEND;VALUE=DATE:20251002
DTSTAMP:20260423T222525
CREATED:20250528T210430Z
LAST-MODIFIED:20250723T203213Z
UID:6759-1756857600-1759363199@desertpacificicorps.org
SUMMARY:I-Corps Aspire (Sep-Oct 2025)
DESCRIPTION:Learn the fundamentals of customer discovery and assess problem-solution fit over 4 sessions\, 3 hours each\, conducted via Zoom. \nSessions 1-4: Wednesdays\, Sep 3\, 10\, 17\, Oct 1 \n\nNote: No session Sep 24\n\n4 to 7 p.m. MST (Phoenix) \nAll sessions via Zoom \nApplication Deadline: August 20\, 2025 \nContact: taylor.b.silverstein@asu.edu \nApply Here
URL:https://desertpacificicorps.org/event/i-corps-aspire-sep-oct-2025/
END:VEVENT
BEGIN:VEVENT
DTSTART;TZID=America/Phoenix:20250826T140000
DTEND;TZID=America/Phoenix:20250826T143000
DTSTAMP:20260423T222525
CREATED:20250121T182248Z
LAST-MODIFIED:20250730T195636Z
UID:5820-1756216800-1756218600@desertpacificicorps.org
SUMMARY:I-Corps Info Session
DESCRIPTION:Interested in participating in the I-Corps course offered by the NSF I-Corps Hub: Desert and Pacific Region? Join us at one of the upcoming info sessions to learn more about the upcoming courses\, the benefits and advantages of participating as well as pathways and next steps beyond the regional training. \nDate: Tuesday\, August 26\, 2025\nTime: 2:00 to 2:30 p.m. MST (Phoenix)\nFormat: Virtual via Zoom\nRegister here: https://airtable.com/appWhZUqIwkj4x0bd/pagoLy3TEvIwZMbAx/form \nDiscover the real impact of I-Corps! Watch the video below to hear from a past participant about the invaluable benefits and opportunities the program offers.
URL:https://desertpacificicorps.org/event/i-corps-info-session-42/
END:VEVENT
BEGIN:VEVENT
DTSTART;VALUE=DATE:20250822
DTEND;VALUE=DATE:20250913
DTSTAMP:20260423T222525
CREATED:20250522T193237Z
LAST-MODIFIED:20250522T193237Z
UID:6742-1755820800-1757721599@desertpacificicorps.org
SUMMARY:I-Corps Aspire (Aug-Sep 2025)
DESCRIPTION:Learn the fundamentals of customer discovery and assess problem-solution fit over 4 sessions\, 3 hours each\, conducted via Zoom. \nSessions 1-4: Fridays\, Aug 22\, 29\, Sep 5\, 12 \n12 to 3 p.m. MST (Phoenix) \nAll sessions via Zoom \nApplication Deadline: August 8\, 2025 \nContact: taylor.b.silverstein@asu.edu \nApply Here
URL:https://desertpacificicorps.org/event/i-corps-aspire-aug-sep-2025/
END:VEVENT
BEGIN:VEVENT
DTSTART;TZID=America/Phoenix:20250813T123000
DTEND;TZID=America/Phoenix:20250813T130000
DTSTAMP:20260423T222525
CREATED:20250121T182007Z
LAST-MODIFIED:20250730T200606Z
UID:5818-1755088200-1755090000@desertpacificicorps.org
SUMMARY:I-Corps Info Session
DESCRIPTION:Interested in participating in the I-Corps course offered by the NSF I-Corps Hub: Desert and Pacific Region? Join us at one of the upcoming info sessions to learn more about the upcoming courses\, the benefits and advantages of participating as well as pathways and next steps beyond the regional training. \nDate: Wednesday\, August 13\, 2025\nTime: 12:30 to 1:00 p.m. MST (Phoenix)\nFormat: Virtual via Zoom\nRegister here: https://airtable.com/appWhZUqIwkj4x0bd/pagoLy3TEvIwZMbAx/form \nDiscover the real impact of I-Corps! Watch the video below to hear from a past participant about the invaluable benefits and opportunities the program offers.
URL:https://desertpacificicorps.org/event/i-corps-info-session-41/
END:VEVENT
BEGIN:VEVENT
DTSTART;TZID=America/Phoenix:20250722T140000
DTEND;TZID=America/Phoenix:20250722T143000
DTSTAMP:20260423T222525
CREATED:20250117T211808Z
LAST-MODIFIED:20250117T211846Z
UID:5804-1753192800-1753194600@desertpacificicorps.org
SUMMARY:I-Corps Info Session
DESCRIPTION:Interested in participating in the I-Corps course offered by the NSF I-Corps Hub: Desert and Pacific Region? Join us at one of the upcoming info sessions to learn more about the upcoming courses\, the benefits and advantages of participating as well as pathways and next steps beyond the regional training. \nDate: Tuesday\, July 22\, 2025\nTime: 2:00 to 2:30 p.m. MST (Phoenix)\nFormat: Virtual via Zoom\nRegister here: https://airtable.com/appWhZUqIwkj4x0bd/pagoLy3TEvIwZMbAx/form \nDiscover the real impact of I-Corps! Watch the video below to hear from a past participant about the invaluable benefits and opportunities the program offers. \nhttps://www.youtube.com/watch?v=fFgBp9B5tqU
URL:https://desertpacificicorps.org/event/i-corps-info-session-40/
END:VEVENT
BEGIN:VEVENT
DTSTART;VALUE=DATE:20250721
DTEND;VALUE=DATE:20250821
DTSTAMP:20260423T222525
CREATED:20250512T190029Z
LAST-MODIFIED:20250512T190029Z
UID:6702-1753056000-1755734399@desertpacificicorps.org
SUMMARY:NASA I-Corps for Small Spacecraft Innovators
DESCRIPTION:Ready to explore the market potential of your small spacecraft research innovation?\n\nIn this free course from NASA and The Interior Northeast I-Corps Hub\, university and federal researchers will learn techniques for interviewing space industry stakeholders\, then take a funded class trip to the 2025 Small Satellite Conference in Salt Lake City\, UT to put their new skills to the test. \nCourse from July 21-August 20\, 2025 \nApplication Deadline: June 3\, 2025 \nAdditional Information and Application
URL:https://desertpacificicorps.org/event/nasa-i-corps-for-small-spacecraft-innovators/
END:VEVENT
BEGIN:VEVENT
DTSTART;VALUE=DATE:20250711
DTEND;VALUE=DATE:20250816
DTSTAMP:20260423T222525
CREATED:20250522T192928Z
LAST-MODIFIED:20250618T164054Z
UID:6740-1752192000-1755302399@desertpacificicorps.org
SUMMARY:I-Corps Aspire hosted by San Diego State University (Jul-Aug 2025)
DESCRIPTION:Build your entrepreneurial skills and get real-world feedback on your idea in a dynamic hybrid course blending online sessions with in-person collaboration at San Diego State University. \nKick-off: Friday\, Jul 11 from 2 to 4 p.m. PT (San Diego) via Zoom\nSession 1: Friday\, Jul 18 from 8 a.m. to 4:30 p.m. PT (San Diego) in-person at SDSU\nSessions 2-4: Fridays\, Jul 25\, Aug 1 and 8 from 2 to 4 p.m. PT (San Diego) via Zoom\nSession 5: Friday\, Aug 15 from 8 a.m. to 1 p.m. PT (San Diego) in-person at SDSU \nApplication Deadline: June 27\, 2025 \nContact: tperrinstowe@sdsu.edu \nApply Here
URL:https://desertpacificicorps.org/event/i-corps-aspire-hosted-by-san-diego-state-university-jul-aug-2025/
END:VEVENT
BEGIN:VEVENT
DTSTART;VALUE=DATE:20250711
DTEND;VALUE=DATE:20250802
DTSTAMP:20260423T222525
CREATED:20250327T173144Z
LAST-MODIFIED:20250327T173155Z
UID:6633-1752192000-1754092799@desertpacificicorps.org
SUMMARY:I-Corps Aspire (Jul-Aug 2025)
DESCRIPTION:Learn the fundamentals of customer discovery and assess problem-solution fit over 4 sessions\, 3 hours each\, conducted via Zoom. \nSessions 1-4: Fridays\, Jul 11\, 18\, 25\, Aug 1 \n12 to 3 p.m. MST (Phoenix) \nAll sessions via Zoom \nApplication Deadline: Jun 27\, 2025 \nContact: taylor.b.silverstein@asu.edu \nApply Here
URL:https://desertpacificicorps.org/event/i-corps-aspire-jul-aug-2025/
END:VEVENT
BEGIN:VEVENT
DTSTART;TZID=America/Phoenix:20250709T123000
DTEND;TZID=America/Phoenix:20250709T130000
DTSTAMP:20260423T222525
CREATED:20250117T211056Z
LAST-MODIFIED:20250117T211056Z
UID:5802-1752064200-1752066000@desertpacificicorps.org
SUMMARY:I-Corps Info Session
DESCRIPTION:Interested in participating in the I-Corps course offered by the NSF I-Corps Hub: Desert and Pacific Region? Join us at one of the upcoming info sessions to learn more about the upcoming courses\, the benefits and advantages of participating as well as pathways and next steps beyond the regional training. \nDate: Wednesday\, July 9\, 2025\nTime: 12:30 to 1:00 p.m. MST (Phoenix)\nFormat: Virtual via Zoom\nRegister here: https://airtable.com/appWhZUqIwkj4x0bd/pagoLy3TEvIwZMbAx/form \nDiscover the real impact of I-Corps! Watch the video below to hear from a past participant about the invaluable benefits and opportunities the program offers. \nhttps://www.youtube.com/watch?v=fFgBp9B5tqU
URL:https://desertpacificicorps.org/event/i-corps-info-session-39/
END:VEVENT
BEGIN:VEVENT
DTSTART;TZID=America/Phoenix:20250624T140000
DTEND;TZID=America/Phoenix:20250624T143000
DTSTAMP:20260423T222525
CREATED:20250117T210416Z
LAST-MODIFIED:20250117T210416Z
UID:5800-1750773600-1750775400@desertpacificicorps.org
SUMMARY:I-Corps Info Session
DESCRIPTION:Interested in participating in the I-Corps course offered by the NSF I-Corps Hub: Desert and Pacific Region? Join us at one of the upcoming info sessions to learn more about the upcoming courses\, the benefits and advantages of participating as well as pathways and next steps beyond the regional training. \nDate: Tuesday\, June 24\, 2025\nTime: 2:00 to 2:30 p.m. MST (Phoenix)\nFormat: Virtual via Zoom\nRegister here: https://airtable.com/appWhZUqIwkj4x0bd/pagoLy3TEvIwZMbAx/form \nDiscover the real impact of I-Corps! Watch the video below to hear from a past participant about the invaluable benefits and opportunities the program offers. \nhttps://www.youtube.com/watch?v=fFgBp9B5tqU
URL:https://desertpacificicorps.org/event/i-corps-info-session-38/
END:VEVENT
BEGIN:VEVENT
DTSTART;TZID=America/Phoenix:20250611T123000
DTEND;TZID=America/Phoenix:20250611T130000
DTSTAMP:20260423T222525
CREATED:20250117T210118Z
LAST-MODIFIED:20250117T210118Z
UID:5798-1749645000-1749646800@desertpacificicorps.org
SUMMARY:I-Corps Info Session
DESCRIPTION:Interested in participating in the I-Corps course offered by the NSF I-Corps Hub: Desert and Pacific Region? Join us at one of the upcoming info sessions to learn more about the upcoming courses\, the benefits and advantages of participating as well as pathways and next steps beyond the regional training. \nDate: Wednesday\, June 11\, 2025\nTime: 12:30 to 1:00 p.m. MST (Phoenix)\nFormat: Virtual via Zoom\nRegister here: https://airtable.com/appWhZUqIwkj4x0bd/pagoLy3TEvIwZMbAx/form \nDiscover the real impact of I-Corps! Watch the video below to hear from a past participant about the invaluable benefits and opportunities the program offers. \nhttps://www.youtube.com/watch?v=fFgBp9B5tqU
URL:https://desertpacificicorps.org/event/i-corps-info-session-37/
END:VEVENT
BEGIN:VEVENT
DTSTART;VALUE=DATE:20250611
DTEND;VALUE=DATE:20250703
DTSTAMP:20260423T222525
CREATED:20250423T172437Z
LAST-MODIFIED:20250529T170401Z
UID:6678-1749600000-1751500799@desertpacificicorps.org
SUMMARY:I-Corps Aspire hosted by University of Arizona (Jun-Jul 2025)
DESCRIPTION:Join the NSF I-Corps Hub: Desert and Pacific Region for an I-Corps Aspire course\, hosted by the University of Arizona. In just 4 weeks\, you’ll embark on a transformative\, evidence-based customer discovery journey designed to help researchers\, entrepreneurs\, and students (including undergraduates) gain valuable insights into the problem/solution fit for their innovation or startup idea. \nSession 1-4: Wednesdays\, Jun 11\, 18\, 25\, Jul 2\n12 to 3 p.m. MST (Tucson) \nAll Sessions via Zoom \nApplication Deadline: June 3\, 2025 \nContact: tylermccusker@arizona.edu \nApply Here
URL:https://desertpacificicorps.org/event/i-corps-aspire-hosted-by-university-of-arizona-jun-jul-2025/
END:VEVENT
BEGIN:VEVENT
DTSTART;VALUE=DATE:20250530
DTEND;VALUE=DATE:20250621
DTSTAMP:20260423T222525
CREATED:20250313T185241Z
LAST-MODIFIED:20250313T185241Z
UID:5993-1748563200-1750463999@desertpacificicorps.org
SUMMARY:I-Corps Aspire (May-Jun 2025)
DESCRIPTION:Learn the fundamentals of customer discovery and assess problem-solution fit over 4 sessions\, 3 hours each\, conducted via Zoom. \nSessions 1-4: Fridays\, May 30\, Jun 6\, 13\, 20 \n12 to 3 p.m. MST (Phoenix) \nAll sessions via Zoom \nApplication Deadline: May 16\, 2025 \nContact: taylor.b.silverstein@asu.edu \nApply Here
URL:https://desertpacificicorps.org/event/i-corps-aspire-may-jun-2025/
END:VEVENT
BEGIN:VEVENT
DTSTART;TZID=America/Phoenix:20250527T140000
DTEND;TZID=America/Phoenix:20250527T143000
DTSTAMP:20260423T222525
CREATED:20250117T205013Z
LAST-MODIFIED:20250117T205013Z
UID:5796-1748354400-1748356200@desertpacificicorps.org
SUMMARY:I-Corps Info Session
DESCRIPTION:Interested in participating in the I-Corps course offered by the NSF I-Corps Hub: Desert and Pacific Region? Join us at one of the upcoming info sessions to learn more about the upcoming courses\, the benefits and advantages of participating as well as pathways and next steps beyond the regional training. \nDate: Tuesday\, May 27\, 2025\nTime: 2:00 to 2:30 p.m. MST (Phoenix)\nFormat: Virtual via Zoom\nRegister here: https://airtable.com/appWhZUqIwkj4x0bd/pagoLy3TEvIwZMbAx/form \nDiscover the real impact of I-Corps! Watch the video below to hear from a past participant about the invaluable benefits and opportunities the program offers. \nhttps://www.youtube.com/watch?v=fFgBp9B5tqU
URL:https://desertpacificicorps.org/event/i-corps-info-session-36/
END:VEVENT
END:VCALENDAR