BEGIN:VCALENDAR
VERSION:2.0
PRODID:-//I-Corps Hub: Desert and Pacific Region - ECPv6.15.20//NONSGML v1.0//EN
CALSCALE:GREGORIAN
METHOD:PUBLISH
X-WR-CALNAME:I-Corps Hub: Desert and Pacific Region
X-ORIGINAL-URL:https://desertpacificicorps.org
X-WR-CALDESC:Events for I-Corps Hub: Desert and Pacific Region
REFRESH-INTERVAL;VALUE=DURATION:PT1H
X-Robots-Tag:noindex
X-PUBLISHED-TTL:PT1H
BEGIN:VTIMEZONE
TZID:America/Phoenix
BEGIN:STANDARD
TZOFFSETFROM:-0700
TZOFFSETTO:-0700
TZNAME:MST
DTSTART:20240101T000000
END:STANDARD
END:VTIMEZONE
BEGIN:VEVENT
DTSTART;TZID=America/Phoenix:20250826T140000
DTEND;TZID=America/Phoenix:20250826T143000
DTSTAMP:20260424T065531
CREATED:20250121T182248Z
LAST-MODIFIED:20250730T195636Z
UID:5820-1756216800-1756218600@desertpacificicorps.org
SUMMARY:I-Corps Info Session
DESCRIPTION:Interested in participating in the I-Corps course offered by the NSF I-Corps Hub: Desert and Pacific Region? Join us at one of the upcoming info sessions to learn more about the upcoming courses\, the benefits and advantages of participating as well as pathways and next steps beyond the regional training. \nDate: Tuesday\, August 26\, 2025\nTime: 2:00 to 2:30 p.m. MST (Phoenix)\nFormat: Virtual via Zoom\nRegister here: https://airtable.com/appWhZUqIwkj4x0bd/pagoLy3TEvIwZMbAx/form \nDiscover the real impact of I-Corps! Watch the video below to hear from a past participant about the invaluable benefits and opportunities the program offers.
URL:https://desertpacificicorps.org/event/i-corps-info-session-42/
END:VEVENT
BEGIN:VEVENT
DTSTART;VALUE=DATE:20250822
DTEND;VALUE=DATE:20250913
DTSTAMP:20260424T065531
CREATED:20250522T193237Z
LAST-MODIFIED:20250522T193237Z
UID:6742-1755820800-1757721599@desertpacificicorps.org
SUMMARY:I-Corps Aspire (Aug-Sep 2025)
DESCRIPTION:Learn the fundamentals of customer discovery and assess problem-solution fit over 4 sessions\, 3 hours each\, conducted via Zoom. \nSessions 1-4: Fridays\, Aug 22\, 29\, Sep 5\, 12 \n12 to 3 p.m. MST (Phoenix) \nAll sessions via Zoom \nApplication Deadline: August 8\, 2025 \nContact: taylor.b.silverstein@asu.edu \nApply Here
URL:https://desertpacificicorps.org/event/i-corps-aspire-aug-sep-2025/
END:VEVENT
BEGIN:VEVENT
DTSTART;TZID=America/Phoenix:20250813T123000
DTEND;TZID=America/Phoenix:20250813T130000
DTSTAMP:20260424T065531
CREATED:20250121T182007Z
LAST-MODIFIED:20250730T200606Z
UID:5818-1755088200-1755090000@desertpacificicorps.org
SUMMARY:I-Corps Info Session
DESCRIPTION:Interested in participating in the I-Corps course offered by the NSF I-Corps Hub: Desert and Pacific Region? Join us at one of the upcoming info sessions to learn more about the upcoming courses\, the benefits and advantages of participating as well as pathways and next steps beyond the regional training. \nDate: Wednesday\, August 13\, 2025\nTime: 12:30 to 1:00 p.m. MST (Phoenix)\nFormat: Virtual via Zoom\nRegister here: https://airtable.com/appWhZUqIwkj4x0bd/pagoLy3TEvIwZMbAx/form \nDiscover the real impact of I-Corps! Watch the video below to hear from a past participant about the invaluable benefits and opportunities the program offers.
URL:https://desertpacificicorps.org/event/i-corps-info-session-41/
END:VEVENT
BEGIN:VEVENT
DTSTART;TZID=America/Phoenix:20250722T140000
DTEND;TZID=America/Phoenix:20250722T143000
DTSTAMP:20260424T065531
CREATED:20250117T211808Z
LAST-MODIFIED:20250117T211846Z
UID:5804-1753192800-1753194600@desertpacificicorps.org
SUMMARY:I-Corps Info Session
DESCRIPTION:Interested in participating in the I-Corps course offered by the NSF I-Corps Hub: Desert and Pacific Region? Join us at one of the upcoming info sessions to learn more about the upcoming courses\, the benefits and advantages of participating as well as pathways and next steps beyond the regional training. \nDate: Tuesday\, July 22\, 2025\nTime: 2:00 to 2:30 p.m. MST (Phoenix)\nFormat: Virtual via Zoom\nRegister here: https://airtable.com/appWhZUqIwkj4x0bd/pagoLy3TEvIwZMbAx/form \nDiscover the real impact of I-Corps! Watch the video below to hear from a past participant about the invaluable benefits and opportunities the program offers. \nhttps://www.youtube.com/watch?v=fFgBp9B5tqU
URL:https://desertpacificicorps.org/event/i-corps-info-session-40/
END:VEVENT
BEGIN:VEVENT
DTSTART;VALUE=DATE:20250721
DTEND;VALUE=DATE:20250821
DTSTAMP:20260424T065531
CREATED:20250512T190029Z
LAST-MODIFIED:20250512T190029Z
UID:6702-1753056000-1755734399@desertpacificicorps.org
SUMMARY:NASA I-Corps for Small Spacecraft Innovators
DESCRIPTION:Ready to explore the market potential of your small spacecraft research innovation?\n\nIn this free course from NASA and The Interior Northeast I-Corps Hub\, university and federal researchers will learn techniques for interviewing space industry stakeholders\, then take a funded class trip to the 2025 Small Satellite Conference in Salt Lake City\, UT to put their new skills to the test. \nCourse from July 21-August 20\, 2025 \nApplication Deadline: June 3\, 2025 \nAdditional Information and Application
URL:https://desertpacificicorps.org/event/nasa-i-corps-for-small-spacecraft-innovators/
END:VEVENT
BEGIN:VEVENT
DTSTART;VALUE=DATE:20250711
DTEND;VALUE=DATE:20250816
DTSTAMP:20260424T065531
CREATED:20250522T192928Z
LAST-MODIFIED:20250618T164054Z
UID:6740-1752192000-1755302399@desertpacificicorps.org
SUMMARY:I-Corps Aspire hosted by San Diego State University (Jul-Aug 2025)
DESCRIPTION:Build your entrepreneurial skills and get real-world feedback on your idea in a dynamic hybrid course blending online sessions with in-person collaboration at San Diego State University. \nKick-off: Friday\, Jul 11 from 2 to 4 p.m. PT (San Diego) via Zoom\nSession 1: Friday\, Jul 18 from 8 a.m. to 4:30 p.m. PT (San Diego) in-person at SDSU\nSessions 2-4: Fridays\, Jul 25\, Aug 1 and 8 from 2 to 4 p.m. PT (San Diego) via Zoom\nSession 5: Friday\, Aug 15 from 8 a.m. to 1 p.m. PT (San Diego) in-person at SDSU \nApplication Deadline: June 27\, 2025 \nContact: tperrinstowe@sdsu.edu \nApply Here
URL:https://desertpacificicorps.org/event/i-corps-aspire-hosted-by-san-diego-state-university-jul-aug-2025/
END:VEVENT
BEGIN:VEVENT
DTSTART;VALUE=DATE:20250711
DTEND;VALUE=DATE:20250802
DTSTAMP:20260424T065531
CREATED:20250327T173144Z
LAST-MODIFIED:20250327T173155Z
UID:6633-1752192000-1754092799@desertpacificicorps.org
SUMMARY:I-Corps Aspire (Jul-Aug 2025)
DESCRIPTION:Learn the fundamentals of customer discovery and assess problem-solution fit over 4 sessions\, 3 hours each\, conducted via Zoom. \nSessions 1-4: Fridays\, Jul 11\, 18\, 25\, Aug 1 \n12 to 3 p.m. MST (Phoenix) \nAll sessions via Zoom \nApplication Deadline: Jun 27\, 2025 \nContact: taylor.b.silverstein@asu.edu \nApply Here
URL:https://desertpacificicorps.org/event/i-corps-aspire-jul-aug-2025/
END:VEVENT
BEGIN:VEVENT
DTSTART;TZID=America/Phoenix:20250709T123000
DTEND;TZID=America/Phoenix:20250709T130000
DTSTAMP:20260424T065531
CREATED:20250117T211056Z
LAST-MODIFIED:20250117T211056Z
UID:5802-1752064200-1752066000@desertpacificicorps.org
SUMMARY:I-Corps Info Session
DESCRIPTION:Interested in participating in the I-Corps course offered by the NSF I-Corps Hub: Desert and Pacific Region? Join us at one of the upcoming info sessions to learn more about the upcoming courses\, the benefits and advantages of participating as well as pathways and next steps beyond the regional training. \nDate: Wednesday\, July 9\, 2025\nTime: 12:30 to 1:00 p.m. MST (Phoenix)\nFormat: Virtual via Zoom\nRegister here: https://airtable.com/appWhZUqIwkj4x0bd/pagoLy3TEvIwZMbAx/form \nDiscover the real impact of I-Corps! Watch the video below to hear from a past participant about the invaluable benefits and opportunities the program offers. \nhttps://www.youtube.com/watch?v=fFgBp9B5tqU
URL:https://desertpacificicorps.org/event/i-corps-info-session-39/
END:VEVENT
BEGIN:VEVENT
DTSTART;TZID=America/Phoenix:20250624T140000
DTEND;TZID=America/Phoenix:20250624T143000
DTSTAMP:20260424T065531
CREATED:20250117T210416Z
LAST-MODIFIED:20250117T210416Z
UID:5800-1750773600-1750775400@desertpacificicorps.org
SUMMARY:I-Corps Info Session
DESCRIPTION:Interested in participating in the I-Corps course offered by the NSF I-Corps Hub: Desert and Pacific Region? Join us at one of the upcoming info sessions to learn more about the upcoming courses\, the benefits and advantages of participating as well as pathways and next steps beyond the regional training. \nDate: Tuesday\, June 24\, 2025\nTime: 2:00 to 2:30 p.m. MST (Phoenix)\nFormat: Virtual via Zoom\nRegister here: https://airtable.com/appWhZUqIwkj4x0bd/pagoLy3TEvIwZMbAx/form \nDiscover the real impact of I-Corps! Watch the video below to hear from a past participant about the invaluable benefits and opportunities the program offers. \nhttps://www.youtube.com/watch?v=fFgBp9B5tqU
URL:https://desertpacificicorps.org/event/i-corps-info-session-38/
END:VEVENT
BEGIN:VEVENT
DTSTART;TZID=America/Phoenix:20250611T123000
DTEND;TZID=America/Phoenix:20250611T130000
DTSTAMP:20260424T065531
CREATED:20250117T210118Z
LAST-MODIFIED:20250117T210118Z
UID:5798-1749645000-1749646800@desertpacificicorps.org
SUMMARY:I-Corps Info Session
DESCRIPTION:Interested in participating in the I-Corps course offered by the NSF I-Corps Hub: Desert and Pacific Region? Join us at one of the upcoming info sessions to learn more about the upcoming courses\, the benefits and advantages of participating as well as pathways and next steps beyond the regional training. \nDate: Wednesday\, June 11\, 2025\nTime: 12:30 to 1:00 p.m. MST (Phoenix)\nFormat: Virtual via Zoom\nRegister here: https://airtable.com/appWhZUqIwkj4x0bd/pagoLy3TEvIwZMbAx/form \nDiscover the real impact of I-Corps! Watch the video below to hear from a past participant about the invaluable benefits and opportunities the program offers. \nhttps://www.youtube.com/watch?v=fFgBp9B5tqU
URL:https://desertpacificicorps.org/event/i-corps-info-session-37/
END:VEVENT
BEGIN:VEVENT
DTSTART;VALUE=DATE:20250611
DTEND;VALUE=DATE:20250703
DTSTAMP:20260424T065531
CREATED:20250423T172437Z
LAST-MODIFIED:20250529T170401Z
UID:6678-1749600000-1751500799@desertpacificicorps.org
SUMMARY:I-Corps Aspire hosted by University of Arizona (Jun-Jul 2025)
DESCRIPTION:Join the NSF I-Corps Hub: Desert and Pacific Region for an I-Corps Aspire course\, hosted by the University of Arizona. In just 4 weeks\, you’ll embark on a transformative\, evidence-based customer discovery journey designed to help researchers\, entrepreneurs\, and students (including undergraduates) gain valuable insights into the problem/solution fit for their innovation or startup idea. \nSession 1-4: Wednesdays\, Jun 11\, 18\, 25\, Jul 2\n12 to 3 p.m. MST (Tucson) \nAll Sessions via Zoom \nApplication Deadline: June 3\, 2025 \nContact: tylermccusker@arizona.edu \nApply Here
URL:https://desertpacificicorps.org/event/i-corps-aspire-hosted-by-university-of-arizona-jun-jul-2025/
END:VEVENT
BEGIN:VEVENT
DTSTART;VALUE=DATE:20250530
DTEND;VALUE=DATE:20250621
DTSTAMP:20260424T065531
CREATED:20250313T185241Z
LAST-MODIFIED:20250313T185241Z
UID:5993-1748563200-1750463999@desertpacificicorps.org
SUMMARY:I-Corps Aspire (May-Jun 2025)
DESCRIPTION:Learn the fundamentals of customer discovery and assess problem-solution fit over 4 sessions\, 3 hours each\, conducted via Zoom. \nSessions 1-4: Fridays\, May 30\, Jun 6\, 13\, 20 \n12 to 3 p.m. MST (Phoenix) \nAll sessions via Zoom \nApplication Deadline: May 16\, 2025 \nContact: taylor.b.silverstein@asu.edu \nApply Here
URL:https://desertpacificicorps.org/event/i-corps-aspire-may-jun-2025/
END:VEVENT
BEGIN:VEVENT
DTSTART;TZID=America/Phoenix:20250527T140000
DTEND;TZID=America/Phoenix:20250527T143000
DTSTAMP:20260424T065531
CREATED:20250117T205013Z
LAST-MODIFIED:20250117T205013Z
UID:5796-1748354400-1748356200@desertpacificicorps.org
SUMMARY:I-Corps Info Session
DESCRIPTION:Interested in participating in the I-Corps course offered by the NSF I-Corps Hub: Desert and Pacific Region? Join us at one of the upcoming info sessions to learn more about the upcoming courses\, the benefits and advantages of participating as well as pathways and next steps beyond the regional training. \nDate: Tuesday\, May 27\, 2025\nTime: 2:00 to 2:30 p.m. MST (Phoenix)\nFormat: Virtual via Zoom\nRegister here: https://airtable.com/appWhZUqIwkj4x0bd/pagoLy3TEvIwZMbAx/form \nDiscover the real impact of I-Corps! Watch the video below to hear from a past participant about the invaluable benefits and opportunities the program offers. \nhttps://www.youtube.com/watch?v=fFgBp9B5tqU
URL:https://desertpacificicorps.org/event/i-corps-info-session-36/
END:VEVENT
BEGIN:VEVENT
DTSTART;TZID=America/Phoenix:20250514T123000
DTEND;TZID=America/Phoenix:20250514T130000
DTSTAMP:20260424T065531
CREATED:20250117T204709Z
LAST-MODIFIED:20250117T204746Z
UID:5794-1747225800-1747227600@desertpacificicorps.org
SUMMARY:I-Corps Info Session
DESCRIPTION:Interested in participating in the I-Corps course offered by the NSF I-Corps Hub: Desert and Pacific Region? Join us at one of the upcoming info sessions to learn more about the upcoming courses\, the benefits and advantages of participating as well as pathways and next steps beyond the regional training. \nDate: Wednesday\, May 14\, 2025\nTime: 12:30 to 1:00 p.m. MST (Phoenix)\nFormat: Virtual via Zoom\nRegister here: https://airtable.com/appWhZUqIwkj4x0bd/pagoLy3TEvIwZMbAx/form \nDiscover the real impact of I-Corps! Watch the video below to hear from a past participant about the invaluable benefits and opportunities the program offers. \nhttps://www.youtube.com/watch?v=fFgBp9B5tqU
URL:https://desertpacificicorps.org/event/i-corps-info-session-35/
END:VEVENT
BEGIN:VEVENT
DTSTART;VALUE=DATE:20250514
DTEND;VALUE=DATE:20250605
DTSTAMP:20260424T065531
CREATED:20250402T191954Z
LAST-MODIFIED:20250402T191954Z
UID:6644-1747180800-1749081599@desertpacificicorps.org
SUMMARY:I-Corps Aspire hosted by University of Idaho (May-Jun 2025)
DESCRIPTION:This course is designed for faculty\, affiliates\, and friends who are exploring the commercialization of their new technology in the fields of agriculture\, science\, and engineering. \nSessions 1-4: Wednesdays\, May 14\, 21\, 28\, Jun 4 \n12 to 3 p.m. PT (Moscow\, ID) \nAll sessions via Zoom \nApplication Deadline: May 1\, 2025 \nContact: taylor.b.silverstein@asu.edu \nApply Here
URL:https://desertpacificicorps.org/event/i-corps-aspire-hosted-by-university-of-idaho-may-jun-2025/
END:VEVENT
BEGIN:VEVENT
DTSTART;VALUE=DATE:20250507
DTEND;VALUE=DATE:20250529
DTSTAMP:20260424T065531
CREATED:20250225T192811Z
LAST-MODIFIED:20250225T192811Z
UID:5978-1746576000-1748476799@desertpacificicorps.org
SUMMARY:I-Corps Immerse: American Clean Power Expo (May 2025)
DESCRIPTION:I-Corps Immerse combines I-Corps training with an on-site immersive experience at the American Clean Power Expo in Phoenix\, Arizona. This opportunity covers registration and travel\, providing you with the tools to conduct customer discovery interviews\, gain industry insights\, and network with top energy leaders. \nSessions 1\, 2\, and 4: Wednesdays\, May 7\, 14\, and 28  from 12 to 3 p.m. MST (Phoenix) via Zoom \nSession 3 and American Clean Power Expo: May 19-22 in-person in Phoenix\, AZ \nI-Corps Immerse: American Clean Power Expo (May 2025) Flyer\n \nContact: taylor.b.silverstein@asu.edu  \nApply Here
URL:https://desertpacificicorps.org/event/i-corps-immerse-american-clean-power-expo-may-2025/
END:VEVENT
BEGIN:VEVENT
DTSTART;VALUE=DATE:20250505
DTEND;VALUE=DATE:20250606
DTSTAMP:20260424T065531
CREATED:20250404T205820Z
LAST-MODIFIED:20250404T210244Z
UID:6658-1746403200-1749167999@desertpacificicorps.org
SUMMARY:I-Corps Aspire: Sustainability hosted by University of California\, San Diego (May-Jun 2025)
DESCRIPTION:Dive into the world of sustainability-driven innovation as you learn to test assumptions\, engage with real-world stakeholders\, and explore the commercial potential of your research. This I-Corps Aspire course guides you through the fundamentals of customer discovery with a 1-hour kick-off session and four 3-hour sessions\, all conducted via Zoom. \nKick-off: Monday\, May 5\n5 to 6 p.m. PT (San Diego) \nSessions 1-4: Thursdays\, May 8\, 15\, 22\, Jun 5 – Note: No session on May 29\n5 to 8 p.m. PT (San Diego) \nAll sessions via Zoom \nApplication Deadline: April 21\, 2025 \nContact: jtiglao@ucsd.edu \nApply Here
URL:https://desertpacificicorps.org/event/i-corps-aspire-sustainability-hosted-by-university-of-california-san-diego-may-jun-2025/
END:VEVENT
BEGIN:VEVENT
DTSTART;TZID=America/Phoenix:20250422T140000
DTEND;TZID=America/Phoenix:20250422T143000
DTSTAMP:20260424T065531
CREATED:20250117T202903Z
LAST-MODIFIED:20250117T204320Z
UID:5792-1745330400-1745332200@desertpacificicorps.org
SUMMARY:I-Corps Info Session
DESCRIPTION:Interested in participating in the I-Corps course offered by the NSF I-Corps Hub: Desert and Pacific Region? Join us at one of the upcoming info sessions to learn more about the upcoming courses\, the benefits and advantages of participating as well as pathways and next steps beyond the regional training. \nDate: Tuesday\, April 22\, 2025\nTime: 2:00 to 2:30 p.m. MST (Phoenix)\nFormat: Virtual via Zoom\nRegister here: https://airtable.com/appWhZUqIwkj4x0bd/pagoLy3TEvIwZMbAx/form \nDiscover the real impact of I-Corps! Watch the video below to hear from a past participant about the invaluable benefits and opportunities the program offers. \nhttps://www.youtube.com/watch?v=fFgBp9B5tqU
URL:https://desertpacificicorps.org/event/i-corps-info-session-34/
END:VEVENT
BEGIN:VEVENT
DTSTART;VALUE=DATE:20250418
DTEND;VALUE=DATE:20250510
DTSTAMP:20260424T065531
CREATED:20250225T191319Z
LAST-MODIFIED:20250225T191319Z
UID:5976-1744934400-1746835199@desertpacificicorps.org
SUMMARY:I-Corps Aspire (Apr-May 2025)
DESCRIPTION:Learn the fundamentals of customer discovery and assess problem-solution fit over 4 sessions\, 3 hours each\, conducted via Zoom. \nSessions 1-4: Fridays\, Apr 18\, 25\, May 2\, 9 \n12 to 3 p.m. MST (Phoenix)  \nAll sessions via Zoom \nApplication Deadline: April 4\, 2025 \nContact: taylor.b.silverstein@asu.edu  \nApply Here
URL:https://desertpacificicorps.org/event/i-corps-aspire-apr-may-2025/
END:VEVENT
BEGIN:VEVENT
DTSTART;TZID=America/Phoenix:20250409T123000
DTEND;TZID=America/Phoenix:20250409T130000
DTSTAMP:20260424T065531
CREATED:20250117T202450Z
LAST-MODIFIED:20250117T202509Z
UID:5788-1744201800-1744203600@desertpacificicorps.org
SUMMARY:I-Corps Info Session
DESCRIPTION:Interested in participating in the I-Corps course offered by the NSF I-Corps Hub: Desert and Pacific Region? Join us at one of the upcoming info sessions to learn more about the upcoming courses\, the benefits and advantages of participating as well as pathways and next steps beyond the regional training. \nDate: Wednesday\, April 9\, 2025\nTime: 12:30 to 1:00 p.m. MST (Phoenix)\nFormat: Virtual via Zoom\nRegister here: https://airtable.com/appWhZUqIwkj4x0bd/pagoLy3TEvIwZMbAx/form \nDiscover the real impact of I-Corps! Watch the video below to hear from a past participant about the invaluable benefits and opportunities the program offers. \nhttps://www.youtube.com/watch?v=fFgBp9B5tqU
URL:https://desertpacificicorps.org/event/i-corps-info-session-33/
END:VEVENT
BEGIN:VEVENT
DTSTART;VALUE=DATE:20250409
DTEND;VALUE=DATE:20250522
DTSTAMP:20260424T065531
CREATED:20250211T180500Z
LAST-MODIFIED:20250211T182250Z
UID:5920-1744156800-1747871999@desertpacificicorps.org
SUMMARY:Spring 2025 Launch Blue Industry Transformation Accelerator
DESCRIPTION:Launch Blue’s Industry Transformation Accelerator is designed to provide early-stage tech startups with in-depth insights on securing their first corporate clients. \nThrough the virtual 7-week program\, startup founders will develop strategies for pilot projects\, dilutive and nondilutive funding\, and technology adoption—culminating in a pitch to Launch Blue’s corporate innovation partners. \nThe Industry Transformation Accelerator runs April 9 through May 21\, 2025 \nClick here to learn more about the program and begin the application
URL:https://desertpacificicorps.org/event/spring-2025-launch-blue-industry-transformation-accelerator-2/
END:VEVENT
BEGIN:VEVENT
DTSTART;VALUE=DATE:20250327
DTEND;VALUE=DATE:20250418
DTSTAMP:20260424T065531
CREATED:20250225T191039Z
LAST-MODIFIED:20250225T191519Z
UID:5974-1743033600-1744934399@desertpacificicorps.org
SUMMARY:I-Corps Aspire (Mar-Apr 2025)
DESCRIPTION:Learn the fundamentals of customer discovery and assess problem-solution fit over 4 sessions\, 3 hours each\, conducted via Zoom. \nSessions 1-4: Thursdays\, Mar 27\, Apr 3\, 10\, 17 \n4 to 7 p.m. MST (Phoenix)  \nAll sessions via Zoom \nApplication Deadline: March 13\, 2025 \nContact: taylor.b.silverstein@asu.edu  \nApply Here
URL:https://desertpacificicorps.org/event/i-corps-aspire-mar-apr-2025/
END:VEVENT
BEGIN:VEVENT
DTSTART;TZID=America/Phoenix:20250325T140000
DTEND;TZID=America/Phoenix:20250325T143000
DTSTAMP:20260424T065531
CREATED:20250116T172445Z
LAST-MODIFIED:20250116T172445Z
UID:5771-1742911200-1742913000@desertpacificicorps.org
SUMMARY:I-Corps Info Session
DESCRIPTION:Interested in participating in the I-Corps course offered by the NSF I-Corps Hub: Desert and Pacific Region? Join us at one of the upcoming info sessions to learn more about the upcoming courses\, the benefits and advantages of participating as well as pathways and next steps beyond the regional training. \nDate: Tuesday\, March 25\, 2025\nTime: 2:00 to 2:30 p.m. MST (Phoenix)\nFormat: Virtual via Zoom\nRegister here: https://airtable.com/appWhZUqIwkj4x0bd/pagoLy3TEvIwZMbAx/form \nDiscover the real impact of I-Corps! Watch the video below to hear from a past participant about the invaluable benefits and opportunities the program offers. \nhttps://www.youtube.com/watch?v=fFgBp9B5tqU
URL:https://desertpacificicorps.org/event/i-corps-info-session-32/
END:VEVENT
BEGIN:VEVENT
DTSTART;VALUE=DATE:20250317
DTEND;VALUE=DATE:20250408
DTSTAMP:20260424T065531
CREATED:20250129T162007Z
LAST-MODIFIED:20250225T185716Z
UID:5857-1742169600-1744070399@desertpacificicorps.org
SUMMARY:I-Corps Aspire: After Dark hosted by University of Arizona (Mar-Apr 2025)
DESCRIPTION:Join the NSF I-Corps Hub: Desert and Pacific Region for an I-Corps Aspire course\, hosted by the University of Arizona—now conveniently offered in-person and in the evening to fit your academic schedule. \nIn just 4 weeks\, you’ll embark on a transformative\, evidence-based customer discovery journey designed to help researchers\, entrepreneurs\, and students (including undergraduates) gain valuable insights into the problem/solution fit for their innovation or startup idea. \nSession 1-4: Mondays\, Mar 17\, 24\, 31\, Apr 7\n5 to 8 p.m. MST (Tucson) \nAll Sessions in-person at the ENR2 building on University of Arizona campus \nApplication Deadline: March 3\, 2025 \nContact: tylermccusker@arizona.edu \nApply Here
URL:https://desertpacificicorps.org/event/i-corps-aspire-after-dark-hosted-by-university-of-arizona-mar-apr-2025/
END:VEVENT
BEGIN:VEVENT
DTSTART;TZID=America/Phoenix:20250312T123000
DTEND;TZID=America/Phoenix:20250312T130000
DTSTAMP:20260424T065531
CREATED:20250116T172024Z
LAST-MODIFIED:20250116T172057Z
UID:5769-1741782600-1741784400@desertpacificicorps.org
SUMMARY:I-Corps Info Session
DESCRIPTION:Interested in participating in the I-Corps course offered by the NSF I-Corps Hub: Desert and Pacific Region? Join us at one of the upcoming info sessions to learn more about the upcoming courses\, the benefits and advantages of participating as well as pathways and next steps beyond the regional training. \nDate: Wednesday\, March 12\, 2025\nTime: 12:30 to 1:00 p.m. MST (Phoenix)\nFormat: Virtual via Zoom\nRegister here: https://airtable.com/appWhZUqIwkj4x0bd/pagoLy3TEvIwZMbAx/form \nDiscover the real impact of I-Corps! Watch the video below to hear from a past participant about the invaluable benefits and opportunities the program offers. \nhttps://www.youtube.com/watch?v=fFgBp9B5tqU
URL:https://desertpacificicorps.org/event/i-corps-info-session-31/
END:VEVENT
BEGIN:VEVENT
DTSTART;VALUE=DATE:20250307
DTEND;VALUE=DATE:20250329
DTSTAMP:20260424T065531
CREATED:20241219T212704Z
LAST-MODIFIED:20250225T195028Z
UID:5561-1741305600-1743206399@desertpacificicorps.org
SUMMARY:I-Corps Aspire (Mar 2025)
DESCRIPTION:Learn the fundamentals of customer discovery and assess problem-solution fit over 4 sessions\, 3 hours each\, conducted via Zoom. \nSessions 1-4: Fridays\, Mar 7\, 14\, 21\, 28  \n12 to 3 p.m. MST (Phoenix)  \nAll sessions via Zoom \nApplication Deadline: February 21\, 2025 \nContact: taylor.b.silverstein@asu.edu  \nApply Here
URL:https://desertpacificicorps.org/event/i-corps-aspire-mar-2025/
END:VEVENT
BEGIN:VEVENT
DTSTART;TZID=America/Phoenix:20250225T140000
DTEND;TZID=America/Phoenix:20250225T143000
DTSTAMP:20260424T065531
CREATED:20250116T170956Z
LAST-MODIFIED:20250116T173006Z
UID:5767-1740492000-1740493800@desertpacificicorps.org
SUMMARY:I-Corps Info Session
DESCRIPTION:Interested in participating in the I-Corps course offered by the NSF I-Corps Hub: Desert and Pacific Region? Join us at one of the upcoming info sessions to learn more about the upcoming courses\, the benefits and advantages of participating as well as pathways and next steps beyond the regional training. \nDate: Tuesday\, February 25\, 2025\nTime: 2:00 to 2:30 p.m. MST (Phoenix)\nFormat: Virtual via Zoom\nRegister here: https://airtable.com/appWhZUqIwkj4x0bd/pagoLy3TEvIwZMbAx/form \nDiscover the real impact of I-Corps! Watch the video below to hear from a past participant about the invaluable benefits and opportunities the program offers. \nhttps://www.youtube.com/watch?v=fFgBp9B5tqU
URL:https://desertpacificicorps.org/event/i-corps-info-session-30/
END:VEVENT
BEGIN:VEVENT
DTSTART;VALUE=DATE:20250224
DTEND;VALUE=DATE:20250403
DTSTAMP:20260424T065531
CREATED:20241219T212719Z
LAST-MODIFIED:20241219T212719Z
UID:5559-1740355200-1743638399@desertpacificicorps.org
SUMMARY:I-Corps Aspire: MedTech hosted by University of California\, San Diego (Feb-Apr 2025)
DESCRIPTION:Kick-off: Monday\, Feb 24 from 5 to 6 p.m. PT (San Diego) \nSessions 1-4: Wednesdays\, Feb 26\, Mar 5\, 12\, Apr 2 from 5 to 8 p.m. PT (San Diego)  \nAll sessions via Zoom \nApplication Deadline: February 12\, 2025 \nContact: taylor.b.silverstein@asu.edu  \nApply Here
URL:https://desertpacificicorps.org/event/i-corps-aspire-medtech-hosted-by-university-of-california-san-diego-feb-apr-2025/
END:VEVENT
BEGIN:VEVENT
DTSTART;VALUE=DATE:20250221
DTEND;VALUE=DATE:20250315
DTSTAMP:20260424T065531
CREATED:20250107T162625Z
LAST-MODIFIED:20250107T163234Z
UID:5651-1740096000-1741996799@desertpacificicorps.org
SUMMARY:I-Corps Aspire hosted by University of Hawaii (Feb-Mar 2025)
DESCRIPTION:Sessions 1-4: Fridays\, Feb 21\, 28\, Mar 7\, Mar 14\n9 a.m. to 12 p.m. HST (Hawaii) via Zoom  \nAll sessions via Zoom \nApplication Deadline: February 7\, 2025 \nContact: canavarr@hawaii.edu   \nApply Here
URL:https://desertpacificicorps.org/event/i-corps-aspire-hosted-by-university-of-hawaii-feb-mar-2025/
END:VEVENT
BEGIN:VEVENT
DTSTART;VALUE=DATE:20250213
DTEND;VALUE=DATE:20250307
DTSTAMP:20260424T065531
CREATED:20241219T212731Z
LAST-MODIFIED:20241219T212731Z
UID:5557-1739404800-1741305599@desertpacificicorps.org
SUMMARY:I-Corps Aspire (Feb-Mar 2025)
DESCRIPTION:Sessions 1-4: Thursdays\, Feb 13\, 20\, 27\, Mar 6 from 4 to 7 p.m. MST (Phoenix)  \nAll sessions via Zoom \nApplication Deadline: January 30\, 2025 \nContact: taylor.b.silverstein@asu.edu  \nApply Here
URL:https://desertpacificicorps.org/event/i-corps-aspire-feb-mar-2025/
END:VEVENT
END:VCALENDAR