BEGIN:VCALENDAR
VERSION:2.0
PRODID:-//I-Corps Hub: Desert and Pacific Region - ECPv6.15.20//NONSGML v1.0//EN
CALSCALE:GREGORIAN
METHOD:PUBLISH
X-WR-CALNAME:I-Corps Hub: Desert and Pacific Region
X-ORIGINAL-URL:https://desertpacificicorps.org
X-WR-CALDESC:Events for I-Corps Hub: Desert and Pacific Region
REFRESH-INTERVAL;VALUE=DURATION:PT1H
X-Robots-Tag:noindex
X-PUBLISHED-TTL:PT1H
BEGIN:VTIMEZONE
TZID:UTC
BEGIN:STANDARD
TZOFFSETFROM:+0000
TZOFFSETTO:+0000
TZNAME:UTC
DTSTART:20220101T000000
END:STANDARD
END:VTIMEZONE
BEGIN:VTIMEZONE
TZID:America/Phoenix
BEGIN:STANDARD
TZOFFSETFROM:-0700
TZOFFSETTO:-0700
TZNAME:MST
DTSTART:20220101T000000
END:STANDARD
END:VTIMEZONE
BEGIN:VEVENT
DTSTART;TZID=UTC:20240131T123000
DTEND;TZID=UTC:20240131T130000
DTSTAMP:20260425T193639
CREATED:20231212T045702Z
LAST-MODIFIED:20231212T045702Z
UID:4170-1706704200-1706706000@desertpacificicorps.org
SUMMARY:I-Corps Info Session
DESCRIPTION:Are you an aspiring innovator seeking to transform groundbreaking ideas into real-world solutions? Unlock the doors to success with the NSF I-Corps Hub: Desert and Pacific Region—an unparalleled opportunity to revolutionize your technology and make a lasting impact on society. \nJoin us at an upcoming info session to gain valuable insight into the benefits and advantages of participating as well as pathways and next steps beyond the regional program. \nDon’t miss this chance to embark on an inspiring journey of transformation\, where your ideas can flourish and make a difference. \nRegister now for an I-Corps Info Session and take the first step towards a future of innovation and success. \n\nRSVP HERE: https://forms.gle/ktobqR3FdPinw4JY7  
URL:https://desertpacificicorps.org/event/i-corps-info-session-6/
END:VEVENT
BEGIN:VEVENT
DTSTART;VALUE=DATE:20240130
DTEND;VALUE=DATE:20240228
DTSTAMP:20260425T193639
CREATED:20231205T023727Z
LAST-MODIFIED:20231221T012904Z
UID:4115-1706572800-1709078399@desertpacificicorps.org
SUMMARY:Catalyzing Change I-Corps Cohort for Social Innovation hosted by University of Arizona
DESCRIPTION:The University of Arizona is proud to host the Desert and Pacific Region Hub Catalyzing Change I-Corps Cohort for Social Innovation.  In this 5-week program (one kickoff meeting and four class meetings) participants will learn: \n\nReal-world Impact: Shape a better world! Join us to turn your social vision into a force for lasting change\, addressing challenges and improving lives.\nSustainability Strategy: Discover how to build sustainable practices\, ensuring your work endures beyond initial stages\, guided by robust business insights.\nGrant Enhancement: Learn how to strengthen grant applications\, positioning your ideas for increased funding and broader support.\n\nCohort dates and times \n\nOptional Zoom Info Session on Tuesday\, January 23\, 2024 @ 12pm MST\nZoom Kickoff on Tuesday\, January 30\, 2024 @ 1pm-2pm MST\nZoom Classes on Tuesdays\, February 6-27\, 2024 @ 1pm-4pm MST\n\nTo register for the Info Session: https://bit.ly/SI-InfoSession\nTo apply for the Catalyzing Change Social Innovation I-Corps Cohort: https://bit.ly/CatalyzingChangeApplication\nFor more information about I-Corps: https://techlaunch.arizona.edu/resources/nsf-i-corps\nAny questions about I-Corps?  Email aileend@tla.arizona.edu or taylor.b.silverstein@asu.edu \n\n\n\n\n\n\n\n\n\n\n \n\nI-Corps Social Flyer
URL:https://desertpacificicorps.org/event/catalyzing-change-i-corps-cohort-for-social-innovation-hosted-by-university-of-arizona/
END:VEVENT
BEGIN:VEVENT
DTSTART;TZID=UTC:20240123T120000
DTEND;TZID=UTC:20240123T130000
DTSTAMP:20260425T193639
CREATED:20231213T072600Z
LAST-MODIFIED:20231213T072600Z
UID:4212-1706011200-1706014800@desertpacificicorps.org
SUMMARY:Social Innovation I-Corps Cohort Info Session
DESCRIPTION:Find out more about the Catalyzing Change I-Corps Cohort for Social Innovation\n\nReal-world Impact: Shape a better world! Join us to turn your social vision into a force for lasting change\, addressing challenges and improving lives.\nSustainability Strategy: Discover how to build sustainable practices\, ensuring your work endures beyond initial stages\, guided by robust business insights.\nGrant Enhancement: Learn how to strengthen grant applications\, positioning your ideas for increased funding and broader support.\n\nImportant dates \nZoom Info Session on Tuesday\, January 23\, 2024 @ 12pm MST \nZoom Kickoff on Tuesday\, January 30\, 2024 @ 1pm-2pm MST \nZoom Classes on Tuesdays\, February 6-27\, 2024 @ 1pm-4pm MST \nRegister here: https://bit.ly/SI-InfoSession 
URL:https://desertpacificicorps.org/event/social-innovation-i-corps-cohort-info-session/
END:VEVENT
BEGIN:VEVENT
DTSTART;VALUE=DATE:20240122
DTEND;VALUE=DATE:20240223
DTSTAMP:20260425T193639
CREATED:20240106T035821Z
LAST-MODIFIED:20240109T015200Z
UID:4273-1705881600-1708646399@desertpacificicorps.org
SUMMARY:UC San Diego IGE-hosted Sustainability Cohort
DESCRIPTION:NSF I-Corps Sustainability will train innovators who are developing products and services for our sustainable future. \n\nEarn up to $3\,000 in NSF award funding.\nGain entrepreneurial skills\, and learn customer discovery and problem/solution fit.\nGateway to NSF Nationals; become eligible to apply for a grant of up to $50K.\n\nThis 4-session regional training program provides a hands-on\, high-impact\, and fast-paced opportunity for innovators to learn to commercialize their technology. Open to teams from every Desert and Pacific Hub member institution. \nOrientation\nMonday\, January 22\, 2024\n2PM HST/ 5PM PST/5PM MST\n(Fully Remote) \n4 Session Training Dates\nThursdays\, Jan 25- Feb 22\, 2024\n2PM-5PM HST/ 5PM-8PM PST/5PM-8PM MST\n(Fully Remote) \nhttps://bit.ly/DPRSustainability24\nDeadline to apply: 1/19/24 \nQuestions?\nContact Joyce Tiglao jtiglao@ucsd.edu
URL:https://desertpacificicorps.org/event/uc-san-diego-ige-hosted-sustainability-cohort/
END:VEVENT
BEGIN:VEVENT
DTSTART;VALUE=DATE:20240119
DTEND;VALUE=DATE:20240310
DTSTAMP:20260425T193639
CREATED:20231215T015359Z
LAST-MODIFIED:20231215T015359Z
UID:4218-1705622400-1710028799@desertpacificicorps.org
SUMMARY:SDSU I-Corps Winter 2024 Cohort
DESCRIPTION:Learn how to turn your academic discovery into a company that impacts the world!\nImmersive\, in-person opportunity for academic teams to learn about startups and turning basic research ideas into commercial products \n\nOpen to all disciplines & academic institutions\nFaculty\, staff\, post-docs\, graduate students encouraged to apply\nIn-person Saturday Workshops at San Diego University: Jan 27 and Mar 9\nCustomer Discovery and Zoom consultations with I-Corps teaching team between in-person meetings\n\nApply by Jan. 10\, 2024 \nhttps://tinyurl.com/SDSUICORPS2024  \nSDSU I Corps 2024 Flyer
URL:https://desertpacificicorps.org/event/sdsu-i-corps-winter-2024-cohort/
END:VEVENT
BEGIN:VEVENT
DTSTART;TZID=America/Phoenix:20240117T123000
DTEND;TZID=America/Phoenix:20240117T130000
DTSTAMP:20260425T193639
CREATED:20231212T045530Z
LAST-MODIFIED:20231212T045530Z
UID:4168-1705494600-1705496400@desertpacificicorps.org
SUMMARY:I-Corps Info Session
DESCRIPTION:Are you an aspiring innovator seeking to transform groundbreaking ideas into real-world solutions? Unlock the doors to success with the NSF I-Corps Hub: Desert and Pacific Region—an unparalleled opportunity to revolutionize your technology and make a lasting impact on society. \nJoin us at an upcoming info session to gain valuable insight into the benefits and advantages of participating as well as pathways and next steps beyond the regional program. \nDon’t miss this chance to embark on an inspiring journey of transformation\, where your ideas can flourish and make a difference. \nRegister now for an I-Corps Info Session and take the first step towards a future of innovation and success. \n\nRSVP HERE: https://forms.gle/ktobqR3FdPinw4JY7  
URL:https://desertpacificicorps.org/event/i-corps-info-session-5/
END:VEVENT
BEGIN:VEVENT
DTSTART;VALUE=DATE:20240112
DTEND;VALUE=DATE:20240210
DTSTAMP:20260425T193639
CREATED:20231208T150039Z
LAST-MODIFIED:20231208T045712Z
UID:4120-1705017600-1707523199@desertpacificicorps.org
SUMMARY:Cohort 1 – Winter 2024 | NSF I-Corps Hub: Desert and Pacific Region
DESCRIPTION:Accepted teams will complete a fully remote\, four-week I-Corps training which is an assumption/hypothesis testing\, customer discovery-focused process to gather important insights on problem/solution fit and product/market fit to maximize the impact of an innovation. \nTeams that successfully complete the training may qualify for a small award of up to $3K and potentially be recommended to the National I-Corps Teams program where they could qualify for an additional grant of $50K. \nKick-Off Session:  \nFriday\, January 12\, 2024 \n9 to 10 a.m. HST / 11 a.m. to 12 p.m. PST / 12 to 1 p.m. MST / 2 to 3 p.m. EST \nFour-week Workshop Dates:  \nEvery Friday\, January 19 to February 9\, 2024 \n9 a.m. to 12 p.m. HST / 11 a.m. to 2 p.m. PST / 12 to 3 p.m. MST / 2 to 5 p.m. EST \nApplication Link: https://forms.gle/J2P4UBFRuqJjwkZU9
URL:https://desertpacificicorps.org/event/cohort-1-winter-2024-nsf-i-corps-hub-desert-and-pacific-region/
END:VEVENT
BEGIN:VEVENT
DTSTART;TZID=America/Phoenix:20240103T123000
DTEND;TZID=America/Phoenix:20240103T130000
DTSTAMP:20260425T193639
CREATED:20231212T045335Z
LAST-MODIFIED:20231212T045335Z
UID:4166-1704285000-1704286800@desertpacificicorps.org
SUMMARY:I-Corps Info Session
DESCRIPTION:Are you an aspiring innovator seeking to transform groundbreaking ideas into real-world solutions? Unlock the doors to success with the NSF I-Corps Hub: Desert and Pacific Region—an unparalleled opportunity to revolutionize your technology and make a lasting impact on society. \nJoin us at an upcoming info session to gain valuable insight into the benefits and advantages of participating as well as pathways and next steps beyond the regional program. \nDon’t miss this chance to embark on an inspiring journey of transformation\, where your ideas can flourish and make a difference. \nRegister now for an I-Corps Info Session and take the first step towards a future of innovation and success. \n\nRSVP HERE: https://forms.gle/ktobqR3FdPinw4JY7  
URL:https://desertpacificicorps.org/event/i-corps-info-session-4/
END:VEVENT
BEGIN:VEVENT
DTSTART;TZID=America/Phoenix:20231220T123000
DTEND;TZID=America/Phoenix:20231220T130000
DTSTAMP:20260425T193639
CREATED:20231212T044742Z
LAST-MODIFIED:20231212T044742Z
UID:4163-1703075400-1703077200@desertpacificicorps.org
SUMMARY:I-Corps Info Session
DESCRIPTION:Are you an aspiring innovator seeking to transform groundbreaking ideas into real-world solutions? Unlock the doors to success with the NSF I-Corps Hub: Desert and Pacific Region—an unparalleled opportunity to revolutionize your technology and make a lasting impact on society. \nJoin us at an upcoming info session to gain valuable insight into the benefits and advantages of participating as well as pathways and next steps beyond the regional program. \nDon’t miss this chance to embark on an inspiring journey of transformation\, where your ideas can flourish and make a difference. \nRegister now for an I-Corps Info Session and take the first step towards a future of innovation and success. \n\nRSVP HERE: https://forms.gle/ktobqR3FdPinw4JY7  
URL:https://desertpacificicorps.org/event/i-corps-info-session/
END:VEVENT
BEGIN:VEVENT
DTSTART;VALUE=DATE:20231006
DTEND;VALUE=DATE:20231104
DTSTAMP:20260425T193639
CREATED:20230621T032529Z
LAST-MODIFIED:20230907T012907Z
UID:4030-1696550400-1699055999@desertpacificicorps.org
SUMMARY:Cohort 6 – Fall 2023 | NSF I-Corps Hub: Desert and Pacific Region
DESCRIPTION:Accepted teams will complete a fully remote\, four-week I-Corps training which is an assumption/hypothesis testing\, customer discovery focused process to gather important insights on problem/solution fit and product/market fit to maximize the impact of an innovation. \nSuccessful teams that complete the Desert and Pacific Regional I-Corps training may qualify for and be recommended to the National I-Corps Teams program. \nKick-Off Session:\nFriday\, October 6\, 2023\n9 to 10 a.m. HST / 12 to 1 p.m. PDT / 12 to 1 p.m. MST / 1 to 2 p.m. MDT / 3 to 4 p.m. EDT\nInstructional Team will be available for one-on-one Q&A following the orientation. \nFour-week Workshop Dates:\nEvery Friday\, October 13 – November 3\, 2023\n9 a.m. to 12 p.m. HST / 12 to 3 p.m. PDT / 12 to 3 p.m. MST / 1 to 4 p.m. MDT / 3 to 6 p.m. EDT \nApplication Link: https://forms.gle/99ymGZUqudPSGL3Q8
URL:https://desertpacificicorps.org/event/cohort-6-summer-2023-nsf-i-corps-hub-desert-and-pacific-region/
END:VEVENT
BEGIN:VEVENT
DTSTART;VALUE=DATE:20231004
DTEND;VALUE=DATE:20231026
DTSTAMP:20260425T193639
CREATED:20230907T004329Z
LAST-MODIFIED:20230907T004329Z
UID:4057-1696377600-1698278399@desertpacificicorps.org
SUMMARY:UC San Diego-IGE Hosted MedTech Cohort
DESCRIPTION:In collaboration with the NSF Desert and Pacific Region Hub\, the Institute for the Global Entrepreneur (IGE) at UC San Diego is hosting a special medtech-themed cohort of NSF I-Corps training. \nTeams will complete a virtual four-week NSF I-Corps training on an assumption/hypothesis testing\, customer discovery\, problem-solution fit\, and product-market fit\, to maximize the impact of an innovation.  Teams of two or more members are preferred.  Team attendance is expected at each session. \nTeams that successfully complete the training may qualify for a monetary award and recommendation to the national NSF I-Corps Teams program. \nWorkshop Dates:\nSession 1:  Wednesday\, October 4\, 5 p.m. to 8 p.m. PDT / 5 p.m. to 8 p.m. MST / 2 p.m. to 5 p.m. HST\nSession 2:  Wednesday\, October 11\, 5 p.m. to 8 p.m. PDT / 5 p.m. to 8 p.m. MST / 2 p.m. to 5 p.m. HST\nSession 3:  Wednesday\, October 18\, 5 p.m. to 8 p.m. PDT / 5 p.m. to 8 p.m. MST / 2 p.m. to 5 p.m. HST\nSession 4:  Wednesday\, October 25\, 5 p.m. to 8 p.m. PDT / 5 p.m. to 8 p.m. MST /2 p.m. to 5 p.m. HST \n\nThe deadline to apply is Tuesday\, September 19. \n\n\nI-Corps Fall 2023 (Flyer)
URL:https://desertpacificicorps.org/event/uc-san-diego-ige-hosted-medtech-cohort/
END:VEVENT
BEGIN:VEVENT
DTSTART;TZID=America/Phoenix:20230927T130000
DTEND;TZID=America/Phoenix:20230927T133000
DTSTAMP:20260425T193639
CREATED:20230907T012114Z
LAST-MODIFIED:20230907T012114Z
UID:4068-1695819600-1695821400@desertpacificicorps.org
SUMMARY:Cohort 6 Info Session 3
DESCRIPTION:Interested in participating in the I-Corps Training offered by the NSF I-Corps Hub: Desert and Pacific Region? Join us at one of the upcoming info sessions to learn more about the upcoming cohorts\, the benefits and advantages of participating as well as pathways and next steps beyond the regional program. \nSession 3\nWednesday\, September 27\n10 to 10:30 a.m. HST / 1 to 1:30 p.m. PDT / 1 to 1:30 p.m. MST / 2 to 2:30 p.m. MDT / 4 to 4:30 p.m. EDT \nRSVP Here: https://forms.gle/rVyq97KT4JEH12vV6
URL:https://desertpacificicorps.org/event/cohort-6-info-session-3/
END:VEVENT
BEGIN:VEVENT
DTSTART;TZID=America/Phoenix:20230925T130000
DTEND;TZID=America/Phoenix:20230925T133000
DTSTAMP:20260425T193639
CREATED:20230907T011922Z
LAST-MODIFIED:20230907T011922Z
UID:4066-1695646800-1695648600@desertpacificicorps.org
SUMMARY:Cohort 6 Info Session 2
DESCRIPTION:Interested in participating in the I-Corps Training offered by the NSF I-Corps Hub: Desert and Pacific Region? Join us at one of the upcoming info sessions to learn more about the upcoming cohorts\, the benefits and advantages of participating as well as pathways and next steps beyond the regional program. \nSession 2\nMonday\, September 25\n10 to 10:30 a.m. HST / 1 to 1:30 p.m. PDT / 1 to 1:30 p.m. MST / 2 to 2:30 p.m. MDT / 4 to 4:30 p.m. EDT \nRSVP Here: https://forms.gle/rVyq97KT4JEH12vV6
URL:https://desertpacificicorps.org/event/cohort-6-info-session-2/
END:VEVENT
BEGIN:VEVENT
DTSTART;TZID=America/Phoenix:20230914T120000
DTEND;TZID=America/Phoenix:20230914T123000
DTSTAMP:20260425T193639
CREATED:20230907T011726Z
LAST-MODIFIED:20230907T011726Z
UID:4064-1694692800-1694694600@desertpacificicorps.org
SUMMARY:Cohort 6 Info Session 1
DESCRIPTION:Interested in participating in the I-Corps Training offered by the NSF I-Corps Hub: Desert and Pacific Region? Join us at one of the upcoming info sessions to learn more about the upcoming cohorts\, the benefits and advantages of participating as well as pathways and next steps beyond the regional program. \nSession 1\nThursday\, September 14\n9 to 9:30 a.m. HST / 12 to 12:30 p.m. PDT / 12 to 12:30 p.m. MST / 1 to 1:30 p.m. MDT / 3 to 3:30 p.m. EDT \nRSVP Here: https://forms.gle/rVyq97KT4JEH12vV6
URL:https://desertpacificicorps.org/event/cohort-6-info-session-1/
END:VEVENT
BEGIN:VEVENT
DTSTART;TZID=America/Phoenix:20230907T150000
DTEND;TZID=America/Phoenix:20230907T160000
DTSTAMP:20260425T193639
CREATED:20230829T022943Z
LAST-MODIFIED:20230829T022943Z
UID:4053-1694098800-1694102400@desertpacificicorps.org
SUMMARY:Ask Me Anything: NSF I-Corps Desert and Pacific Regional Program hosted by University of Hawai'i
DESCRIPTION:Heard about the new NSF I-Corps regional program available through UH? Thinking of participating or starting a new business? \nYou are invited to Ask Me Anything about the NSF I-Corps Regional Program by the Desert and Pacific Region Hub. Learn more about the program and get answers to your questions.
URL:https://desertpacificicorps.org/event/ask-me-anything-nsf-i-corps-desert-and-pacific-regional-program-hosted-by-university-of-hawaii/
END:VEVENT
BEGIN:VEVENT
DTSTART;VALUE=DATE:20230825
DTEND;VALUE=DATE:20230923
DTSTAMP:20260425T193639
CREATED:20230621T032115Z
LAST-MODIFIED:20230621T032115Z
UID:4028-1692921600-1695427199@desertpacificicorps.org
SUMMARY:Cohort 5 – Fall 2023 | NSF I-Corps Hub: Desert and Pacific Region
DESCRIPTION:Accepted teams will complete a fully remote\, four-week I-Corps training which is an assumption/hypothesis testing\, customer discovery focused process to gather important insights on problem/solution fit and product/market fit to maximize the impact of an innovation. \nSuccessful teams that complete the Desert and Pacific Regional I-Corps training may qualify for and be recommended to the National I-Corps Teams program. \nRequired Orientation:\nFriday\, August 25\, 2023\n9 to 10 a.m. HST / 12 to 1 p.m. PDT / 12 to 1 p.m. MST / 1 to 2 p.m. MDT / 3 to 4 p.m. EDT\nInstructional Team will be available for one-on-one Q&A following the orientation. \nFour-week Workshop Dates:\nEvery Friday\, September 1 – September 22\, 2023\n9 a.m. to 12 p.m. HST / 12 to 3 p.m. PDT / 12 to 3 p.m. MST / 1 to 4 p.m. MDT / 3 to 6 p.m. EDT \nApplication Link: https://forms.gle/NsriNjJNbDEng7Ln7
URL:https://desertpacificicorps.org/event/cohort-5-fall-2023-nsf-i-corps-hub-desert-and-pacific-region/
CATEGORIES:Training
END:VEVENT
BEGIN:VEVENT
DTSTART;TZID=America/Phoenix:20230809T120000
DTEND;TZID=America/Phoenix:20230809T130000
DTSTAMP:20260425T193639
CREATED:20230726T004047Z
LAST-MODIFIED:20230726T004047Z
UID:4048-1691582400-1691586000@desertpacificicorps.org
SUMMARY:I-Corps Info Session 3
DESCRIPTION:Are you an aspiring innovator seeking to transform groundbreaking ideas into real-world solutions? Unlock the doors to success with the NSF I-Corps Hub: Desert and Pacific Region—an unparalleled opportunity to revolutionize your technology and make a lasting impact on society! \nOur upcoming info sessions offer valuable insight into the benefits and advantages of participating as well as pathways and next steps beyond the regional program. \nDon’t miss this chance to embark on an inspiring journey of transformation\, where your ideas can flourish and make a difference. Register now for an I-Corps Info Session and take the first step towards a future of innovation and success! \nSession 3 – Wednesday\, August 99 to 10 a.m. HST / 12 to 1 p.m. PDT / 12 to 1 p.m. MST / 1 to 2 p.m. MDT / 3 to 4 p.m. EDT \nRSVP here: https://forms.gle/C1c56Fkf2bCU7t198
URL:https://desertpacificicorps.org/event/i-corps-info-session-3/
END:VEVENT
BEGIN:VEVENT
DTSTART;TZID=America/Phoenix:20230807T113000
DTEND;TZID=America/Phoenix:20230807T123000
DTSTAMP:20260425T193639
CREATED:20230726T003916Z
LAST-MODIFIED:20230726T003916Z
UID:4046-1691407800-1691411400@desertpacificicorps.org
SUMMARY:I-Corps Info Session 2
DESCRIPTION:Are you an aspiring innovator seeking to transform groundbreaking ideas into real-world solutions? Unlock the doors to success with the NSF I-Corps Hub: Desert and Pacific Region—an unparalleled opportunity to revolutionize your technology and make a lasting impact on society! \nOur upcoming info sessions offer valuable insight into the benefits and advantages of participating as well as pathways and next steps beyond the regional program. \nDon’t miss this chance to embark on an inspiring journey of transformation\, where your ideas can flourish and make a difference. Register now for an I-Corps Info Session and take the first step towards a future of innovation and success! \nSession 2 – Monday\, August 7 \n8:30 to 9:30 a.m. HST / 11:30 a.m. to 12:30 p.m. PDT / 11:30 a.m. to 12:30 p.m. MST / 12:30 to 1:30 p.m. MDT / 2:30 to 3:30 p.m. EDT \nRSVP here: https://forms.gle/C1c56Fkf2bCU7t198
URL:https://desertpacificicorps.org/event/i-corps-info-session-2/
END:VEVENT
BEGIN:VEVENT
DTSTART;TZID=America/Phoenix:20230802T120000
DTEND;TZID=America/Phoenix:20230802T130000
DTSTAMP:20260425T193639
CREATED:20230726T003544Z
LAST-MODIFIED:20230726T003544Z
UID:4040-1690977600-1690981200@desertpacificicorps.org
SUMMARY:I-Corps Info Session 1
DESCRIPTION:Are you an aspiring innovator seeking to transform groundbreaking ideas into real-world solutions? Unlock the doors to success with the NSF I-Corps Hub: Desert and Pacific Region—an unparalleled opportunity to revolutionize your technology and make a lasting impact on society! \nOur upcoming info sessions offer valuable insight into the benefits and advantages of participating as well as pathways and next steps beyond the regional program. \nDon’t miss this chance to embark on an inspiring journey of transformation\, where your ideas can flourish and make a difference. Register now for an I-Corps Info Session and take the first step towards a future of innovation and success! \nSession 1 – Wednesday\, August 2 \n9 to 10 a.m. HST / 12 to 1 p.m. PDT / 12 to 1 p.m. MST / 1 to 2 p.m. MDT / 3 to 4 p.m. EDT \nRSVP here: https://forms.gle/C1c56Fkf2bCU7t198
URL:https://desertpacificicorps.org/event/i-corps-info-session-1/
END:VEVENT
BEGIN:VEVENT
DTSTART;VALUE=DATE:20230721
DTEND;VALUE=DATE:20230812
DTSTAMP:20260425T193639
CREATED:20230621T031650Z
LAST-MODIFIED:20230721T011616Z
UID:4026-1689897600-1691798399@desertpacificicorps.org
SUMMARY:Cohort 4 – Summer 2023 | NSF I-Corps Hub: Desert and Pacific Region
DESCRIPTION:Accepted teams will complete a fully remote\, four-week I-Corps training which is an assumption/hypothesis testing\, customer discovery focused process to gather important insights on problem/solution fit and product/market fit to maximize the impact of an innovation. \nSuccessful teams that complete the Desert and Pacific Regional I-Corps training may qualify for and be recommended to the National I-Corps Teams program. \nUpdate: There will not be a live orientation session on July 14. The orientation for this program will be conducted asynchronously.\n \nFour-week Workshop Dates:\nEvery Friday\, July 21 – August 11\, 2023\n9 a.m. to 12 p.m. HST / 12 to 3 p.m. PDT / 12 to 3 p.m. MST / 1 to 4 p.m. MDT / 3 to 6 p.m. EDT \nApplication Link: https://forms.gle/yoZh7e3Bcm67RTZj7
URL:https://desertpacificicorps.org/event/cohort-4-summer-2023-nsf-i-corps-hub-desert-and-pacific-region/
CATEGORIES:Training
END:VEVENT
BEGIN:VEVENT
DTSTART;VALUE=DATE:20230620
DTEND;VALUE=DATE:20230630
DTSTAMP:20260425T193639
CREATED:20230621T033210Z
LAST-MODIFIED:20230621T033210Z
UID:4032-1687219200-1688083199@desertpacificicorps.org
SUMMARY:UC San Diego Sustainability Cohort - Summer 2023
DESCRIPTION:UC San Diego-IGE Hosted Sustainability Cohort\nIn collaboration with the NSF Desert and Pacific Region Hub\, the Institute for the Global Entrepreneur (IGE) at UC San Diego is hosting a special sustainability-themed cohort.\nTeams will complete a hybrid\, two-week intensive NSF I-Corps training which is an assumption/hypothesis testing\, customer discovery focused process to gather important insights on problem/solution fit and product/market fit to maximize the impact of an innovation. Teams of two or more members are preferred\, and at least one team member is expected at each session. \nTeams that successfully complete the training may qualify for a monetary award and recommendation to the National I-Corps Teams program. \n  \nWorkshop Dates: \nSession 1\, Tuesday June 20\, 2 p.m. to 5 p.m. HST / 5 p.m. to 8 p.m. PDT / 5 p.m. to 8 p.m. MST\nSession 2\, Thursday June 22\, 2 p.m. to 5 p.m. HST / 5 p.m. to 8 p.m. PDT / 5 p.m. to 8 p.m. MST\nSession 3\, Tuesday June 27\, 2 p.m. to 5 p.m. HST / 5 p.m. to 8 p.m. PDT / 5 p.m. to 8 p.m. MST\nSession 4\, Thursday June 29\, 2 p.m. to 5 p.m. HST / 5 p.m. to 8 p.m. PDT / 5 p.m. to 8 p.m. MST \nApplication Link: https://docs.google.com/forms/d/e/1FAIpQLSdYNnl8gn_3E6esrDufljwYqqNMaks9ycbd3gmyjTdd8-dGWQ/viewform 
URL:https://desertpacificicorps.org/event/uc-san-diego-sustainability-cohort-summer-2023/
CATEGORIES:Training
END:VEVENT
BEGIN:VEVENT
DTSTART;VALUE=DATE:20230602
DTEND;VALUE=DATE:20230701
DTSTAMP:20260425T193639
CREATED:20230621T030816Z
LAST-MODIFIED:20230621T030816Z
UID:4016-1685664000-1688169599@desertpacificicorps.org
SUMMARY:Cohort 3 - Summer 2023 | NSF I-Corps Hub: Desert and Pacific Region
DESCRIPTION:Accepted teams will complete a fully remote\, four-week I-Corps training which is an assumption/hypothesis testing\, customer discovery focused process to gather important insights on problem/solution fit and product/market fit to maximize the impact of an innovation. \nSuccessful teams that complete the Desert and Pacific Regional I-Corps training may qualify for and be recommended to the National I-Corps Teams program. \nRequired Orientation:\nFriday\, June 2\, 2023\n9 to 10 a.m. HST / 12 to 1 p.m. PDT / 12 to 1 p.m. MST / 1 to 2 p.m. MDT / 3 to 4 p.m. EDT\nInstructional Team will be available for one-on-one Q&A following the orientation. \nFour-week Workshop Dates:\nEvery Friday\, June 9 – June 30\, 2023\n9 a.m. to 12 p.m. HST / 12 to 3 p.m. PDT / 12 to 3 p.m. MST / 1 to 4 p.m. MDT / 3 to 6 p.m. EDT \nApplication Link: https://forms.gle/d2AaDtpnkeE6sx5XA
URL:https://desertpacificicorps.org/event/cohort-3-summer-2023-nsf-i-corps-hub-desert-and-pacific-region/
END:VEVENT
BEGIN:VEVENT
DTSTART;TZID=UTC:20230324T000000
DTEND;TZID=UTC:20230414T000000
DTSTAMP:20260425T193639
CREATED:20230311T004109Z
LAST-MODIFIED:20230311T004216Z
UID:3952-1679616000-1681430400@desertpacificicorps.org
SUMMARY:Spring 2023 Cohort
DESCRIPTION:Accepted teams will complete a fully remote\, four-week I-Corps training which is an assumption/hypothesis testing\, customer discovery focused process to gather important insights on problem/solution fit and product/market fit to maximize the impact of an innovation.\nSuccessful teams that complete the Desert and Pacific Regional I-Corps training may qualify for and be recommended to the National I-Corps Teams program. \nRequired Orientation:\nFriday\, March 17\, 2023\n9 to 10 a.m. HT / 12 to 1 p.m. PT / 12 to 1 p.m. MT / 3 to 4 p.m. ET\nInstructional Team will be available for one-on-one Q&A following the orientation. \nFour-week Workshop Dates:\nEvery Friday\, March 24 – April 14\, 2023\n9 a.m. to 12 p.m. HT / 12 to 3 p.m. PT / 12 to 3 p.m. MT / 3 to 6 p.m. ET
URL:https://desertpacificicorps.org/event/spring-2023-cohort/
CATEGORIES:Training
END:VEVENT
BEGIN:VEVENT
DTSTART;TZID=UTC:20230127T000000
DTEND;TZID=UTC:20230224T000000
DTSTAMP:20260425T193639
CREATED:20230215T010042Z
LAST-MODIFIED:20230311T004449Z
UID:3911-1674777600-1677196800@desertpacificicorps.org
SUMMARY:Desert and Pacific Region training
DESCRIPTION:January 27\, 2023 and continues for four successive Fridays from February 3\, 2023 – February 24\, 2023. \nSessions are online via Zoom from 9 a.m. to 12 p.m. HT / 12 to 3 p.m. PT / 12 to 3 p.m. MT / 3 to 6 p.m. ET
URL:https://desertpacificicorps.org/event/desert-and-pacific-region-training-2/
CATEGORIES:Training
END:VEVENT
END:VCALENDAR